BEGIN:VCALENDAR
VERSION:2.0
PRODID:-//ChamberMaster//Event Calendar 2.0//EN
METHOD:PUBLISH
X-PUBLISHED-TTL:P3D
REFRESH-INTERVAL:P3D
CALSCALE:GREGORIAN
BEGIN:VEVENT
DTSTART:20200624T180000Z
DTEND:20200624T190000Z
X-MICROSOFT-CDO-ALLDAYEVENT:FALSE
SUMMARY:REACH Virtual Panel
DESCRIPTION:Join us for a virtual panel featuring:\n\nApril Barkasi\, President & CEO of CEDARVILLE Engineering Group\n\nLisa Lightcap\, Commercial Lender\, Tompkins VIST Bank\n\nElaine Paul Schaefer\, Executive Director\, Schuylkill River Greenways National Heritage Area
X-ALT-DESC;FMTTYPE=text/html:Join us for a virtual panel featuring:<br />\nApril Barkasi\, President &amp\; CEO of CEDARVILLE Engineering Group<br />\nLisa Lightcap\, Commercial Lender\, Tompkins VIST Bank<br />\nElaine Paul Schaefer\, Executive Director\, Schuylkill River Greenways National Heritage Area
LOCATION:Virtual Event Zoom participation instructions will be sent to those registered prior to the event.
UID:e.2183.856296
SEQUENCE:3
DTSTAMP:20260422T080557Z
URL:https://business.tricountyareachamber.com/events/details/reach-virtual-panel-856296
END:VEVENT

END:VCALENDAR
