BEGIN:VCALENDAR
VERSION:2.0
PRODID:-//ChamberMaster//Event Calendar 2.0//EN
METHOD:PUBLISH
X-PUBLISHED-TTL:P3D
REFRESH-INTERVAL:P3D
CALSCALE:GREGORIAN
BEGIN:VEVENT
DTSTART:20161105T210000Z
DTEND:20161106T000000Z
X-MICROSOFT-CDO-ALLDAYEVENT:FALSE
SUMMARY:Reading Craft Beer Fest- Fall Edition
DESCRIPTION:3:30 PM -5:00 PM VIP 5:00 PM - 8:00 PM
X-ALT-DESC;FMTTYPE=text/html:3:30 PM -5:00 PM VIP 5:00 PM - 8:00 PM
LOCATION:Santander Arena in Reading\, Pa
UID:e.2183.846073
SEQUENCE:3
DTSTAMP:20260422T112828Z
URL:https://business.tricountyareachamber.com/events/details/reading-craft-beer-fest-fall-edition-11-05-2016-846073
END:VEVENT

END:VCALENDAR
