BEGIN:VCALENDAR
VERSION:2.0
PRODID:-//ChamberMaster//Event Calendar 2.0//EN
METHOD:PUBLISH
X-PUBLISHED-TTL:P3D
REFRESH-INTERVAL:P3D
CALSCALE:GREGORIAN
BEGIN:VEVENT
DTSTART:20171128T233000Z
DTEND:20171129T013000Z
X-MICROSOFT-CDO-ALLDAYEVENT:FALSE
SUMMARY:Reference and Census Material
DESCRIPTION:Do you want access to more prospects ? Do you want to develop marketing strategies that will maximize your exposure to potential customers? Learn about the incredible resources available through the U.S. Census Bureau and the Library System. Join Carolyn Wiker from the Pottstown Library and Noemi Mendez from the U.S. Census Bureau for an evening of incredible information.
X-ALT-DESC;FMTTYPE=text/html:Do you want access to more prospects ? Do you want to develop marketing strategies that will maximize your exposure to potential customers? Learn about the incredible resources available through the U.S. Census Bureau and the Library System. Join Carolyn Wiker from the Pottstown Library and Noemi Mendez from the U.S. Census Bureau for an evening of incredible information.
LOCATION:Pottstown Regional Public Library 500 East High Street Pottstown\, PA 19464
UID:e.2183.848868
SEQUENCE:3
DTSTAMP:20260421T060508Z
URL:https://business.tricountyareachamber.com/events/details/reference-and-census-material-848868
END:VEVENT

END:VCALENDAR
