BEGIN:VCALENDAR
VERSION:2.0
PRODID:-//ChamberMaster//Event Calendar 2.0//EN
METHOD:PUBLISH
X-PUBLISHED-TTL:P3D
REFRESH-INTERVAL:P3D
CALSCALE:GREGORIAN
BEGIN:VEVENT
DTSTART:20170125T143000Z
DTEND:20170125T173000Z
X-MICROSOFT-CDO-ALLDAYEVENT:FALSE
SUMMARY:Reframing the Ask: New Ways of Looking at Funding Needs and Avenues for Funds
DESCRIPTION:WITH THE RIGHT RESEARCH\, A MIX OF FUNDRAISING TOOLS\, A CLEAR UNDERSTANDING OF THOSE DEMONIZED OVERHEAD COSTS AND A WILLINGNESS TO TAKE A CREATIVE APPROACH TO REQUESTS\, A NONPROFIT CAN FIND SUPPORT FOR ITS OPERATIONS AND CAPITAL NEEDS. THIS CLASS WILL LOOK AT INVENTIVE APPROACHES THAT INCLUDES TRADITIONAL FUNDING SOURCES AS WELL AS NEWER VEHICLES\, SUCH AS:\n\n	CROWDFUNDING AND SOCIAL MEDIA\n	OUTLINING HOW THEY CAN BE TAPPED INTO TO\n	SECURE FUNDING FOR OVERHEAD\n	AND OTHER GENERAL OPERATING COSTS
X-ALT-DESC;FMTTYPE=text/html:WITH THE RIGHT RESEARCH\, A MIX OF FUNDRAISING TOOLS\, A CLEAR UNDERSTANDING OF THOSE DEMONIZED OVERHEAD COSTS AND A WILLINGNESS TO TAKE A CREATIVE APPROACH TO REQUESTS\, A NONPROFIT CAN FIND SUPPORT FOR ITS OPERATIONS AND CAPITAL NEEDS. THIS CLASS WILL LOOK AT INVENTIVE APPROACHES THAT INCLUDES TRADITIONAL FUNDING SOURCES AS WELL AS NEWER VEHICLES\, SUCH AS:\n<ul>\n	<li>CROWDFUNDING AND SOCIAL MEDIA</li>\n	<li>OUTLINING HOW THEY CAN BE TAPPED INTO TO</li>\n	<li>SECURE FUNDING FOR OVERHEAD</li>\n	<li>AND OTHER GENERAL OPERATING COSTS</li>\n</ul>\n
LOCATION:@107 107 East High Street Pottstown\, PA 19464
UID:e.2183.847388
SEQUENCE:3
DTSTAMP:20260420T133018Z
URL:https://business.tricountyareachamber.com/events/details/reframing-the-ask-new-ways-of-looking-at-funding-needs-and-avenues-for-funds-847388
END:VEVENT

END:VCALENDAR
