BEGIN:VCALENDAR
VERSION:2.0
PRODID:-//ChamberMaster//Event Calendar 2.0//EN
METHOD:PUBLISH
X-PUBLISHED-TTL:P3D
REFRESH-INTERVAL:P3D
CALSCALE:GREGORIAN
BEGIN:VEVENT
DTSTART:20231110T133000Z
DTEND:20231110T150000Z
X-MICROSOFT-CDO-ALLDAYEVENT:FALSE
SUMMARY:Refresh Friday: Accounting Programs for Small Biz
DESCRIPTION:Tracking Income & Expenses for Your Small Biz\n\nby Wendy Moyer-Drabick\n\n\nJoin us for a Refresh Friday session on computerization of your accounting methods\, featuring Wendy Moyer-Drabick of Moyer-Drabick & Associates. \n\nYou will learn:\n\n\n	How to choose the right accounting package for your business.\n	An overview of QuickBooks and how it works.\n	Accounting methods for your business.\n\nWendy has over 20 years' experience in the business accounting field and has been teaching accounting\, QuickBooks and MS Office at Montgomery County Community College. for 10 years.
X-ALT-DESC;FMTTYPE=text/html:<div style="text-align: center\;"><font color="#8b4513" face="arial"><span style="font-size: 24px\;"><b>Tracking Income &amp\; Expenses for Your&nbsp\;Small Biz<br />\nby Wendy Moyer-Drabick</b></span></font></div>\n<br />\n<span style="font-size:14px\;">Join us for a Refresh Friday session on computerization of your accounting methods\, featuring Wendy Moyer-Drabick of Moyer-Drabick &amp\; Associates.&nbsp\;<br />\nYou will learn:</span>\n\n<ul>\n	<li><span style="font-size:14px\;">How to choose the right accounting package for your business.</span></li>\n	<li><span style="font-size:14px\;">An overview of QuickBooks and how it works.</span></li>\n	<li><span style="font-size:14px\;">Accounting methods for your business.</span></li>\n</ul>\n<span style="font-size:14px\;">Wendy has over 20 years&#39\; experience in the business accounting field and has been teaching accounting\, QuickBooks and MS Office at Montgomery County Community College. for 10 years.</span><br />\n&nbsp\;
LOCATION:Montgomery County Community College South Hall\, Room 216
UID:e.2183.858934
SEQUENCE:3
DTSTAMP:20260425T154849Z
URL:https://business.tricountyareachamber.com/events/details/refresh-friday-accounting-programs-for-small-biz-858934
END:VEVENT

END:VCALENDAR
