BEGIN:VCALENDAR
VERSION:2.0
PRODID:-//ChamberMaster//Event Calendar 2.0//EN
METHOD:PUBLISH
X-PUBLISHED-TTL:P3D
REFRESH-INTERVAL:P3D
CALSCALE:GREGORIAN
BEGIN:VEVENT
DTSTART:20170811T123000Z
DTEND:20170811T140000Z
X-MICROSOFT-CDO-ALLDAYEVENT:FALSE
SUMMARY:Refresh Friday: August - "Image"
DESCRIPTION:Need to maximize your engagement with the Chamber but are short on time?  Jennifer O'Donnell\, Member Relations Director with the TriCounty Area Chamber\, will provide a "refresh" and discuss how you can maximize your membership and learn which events and opportunities provide the most benefit for your business and the exposure you are looking for.\n\nIf it is YOUR image you want to refresh\, Lori and Jerry Keefer\, Keefer Photography LLC\, will share how to make your best first impression with professional business portraits.  In today's visual\, social media age\, a professional business portrait will help establish and maintain your creditability.  "Refresh Your Image" by attending this "Refresh Friday" to get a new headshot.  Keefer Photography will be offering chamber members a discount you pay only $79 (value of $129) for a Basic Headshot session that is perfect for updating your profile image.  If you sign up to take advantage of this opportunity\, we will send you helpful tips and tricks on ensuring you get the professional headshots you desire.
X-ALT-DESC;FMTTYPE=text/html:Need to <strong>maximize your engagement</strong> with the Chamber but are short on time?&nbsp\; <strong>Jennifer O&rsquo\;Donnell</strong>\, Member Relations Director with the TriCounty Area Chamber\, will provide a &ldquo\;refresh&rdquo\; and discuss how you can maximize your membership and learn which events and opportunities provide the most benefit for your business and the exposure you are looking for.<br />\nIf it is <strong>YOUR image</strong> you want to refresh\, <strong>Lori </strong>and<strong> Jerry Keefer</strong>\, Keefer Photography LLC\, will share how to make your best first impression with professional business portraits.&nbsp\; In today&rsquo\;s visual\, social media age\, a professional business portrait will help establish and maintain your creditability.&nbsp\; <strong>&ldquo\;Refresh Your Image&rdquo\; </strong>by attending this <strong>&ldquo\;Refresh Friday&rdquo\; </strong>to get a new headshot.&nbsp\; Keefer Photography will be offering chamber members a discount&hellip\;you pay only $79 (value of $129) for a Basic Headshot session that is perfect for updating your profile image.&nbsp\; If you sign up to take advantage of this opportunity\, we will send you helpful tips and tricks on ensuring you get the professional headshots you desire.
LOCATION:Chamber Office 152 E. High St.\, Suite 360 Pottstown\, PA 19464
UID:e.2183.848723
SEQUENCE:3
DTSTAMP:20260421T011103Z
URL:https://business.tricountyareachamber.com/events/details/refresh-friday-august-image-848723
END:VEVENT

END:VCALENDAR
