BEGIN:VCALENDAR
VERSION:2.0
PRODID:-//ChamberMaster//Event Calendar 2.0//EN
METHOD:PUBLISH
X-PUBLISHED-TTL:P3D
REFRESH-INTERVAL:P3D
CALSCALE:GREGORIAN
BEGIN:VEVENT
DTSTART:20221028T123000Z
DTEND:20221028T140000Z
X-MICROSOFT-CDO-ALLDAYEVENT:FALSE
SUMMARY:Refresh Friday - Creating Connections That Count
DESCRIPTION:We communicate all day long\, with clients\, team members\, friends\, family - but it's Connection that Counts!\n\nConnection creates trust\, loyalty and engagement\, whether we're talking about engagement in one to one conversations\,\n\nmeetings\,  presentations\, you name it.\n\nCreating Connections allows you to move from positional leadership and lead from a genuine place of positive influence and impact. \n\n \n\nDuring this interactive presentation\, Jenna Armato will teach:\n\n\n	\n	The value of connection layered with communication\n	\n	\n	Intentional connecting strategies\n	\n	\n	Action steps for implementation
X-ALT-DESC;FMTTYPE=text/html:<h2 style="margin: 0in 0in 0pt\;"><font face="Calibri" size="3">We communicate all day long\, with clients\, team members\, friends\, family - but it&#39\;s Connection that Counts!<br />\nConnection creates trust\, loyalty and engagement\, whether we&#39\;re talking about engagement in one to one conversations\,<br />\nmeetings\,&nbsp\; presentations\, you name it.<br />\nCreating Connections allows you to move from positional leadership and lead from a genuine place of positive influence and impact.&nbsp\;</font></h2>\n\n<h2 style="margin: 0in 0in 0pt\;"><font face="Calibri" size="3">&nbsp\;</font></h2>\n\n<h2 style="margin: 0in 0in 0pt\;"><font face="Calibri" size="3">During this interactive presentation\, Jenna Armato will teach:</font></h2>\n\n<ul>\n	<li style="margin: 0in 0in 0pt\;">\n	<h2><font face="Calibri" size="3">The value of connection layered with communication</font></h2>\n	</li>\n	<li style="margin: 0in 0in 0pt\;">\n	<h2><font face="Calibri" size="3">Intentional connecting strategies</font></h2>\n	</li>\n	<li style="margin: 0in 0in 0pt\;">\n	<h2><font face="Calibri" size="3">Action steps for implementation</font></h2>\n	</li>\n</ul>\n
LOCATION:TCACC Conference Room Suite 200
UID:e.2183.857816
SEQUENCE:3
DTSTAMP:20260420T130449Z
URL:https://business.tricountyareachamber.com/events/details/refresh-friday-creating-connections-that-count-857816
END:VEVENT

END:VCALENDAR
