BEGIN:VCALENDAR
VERSION:2.0
PRODID:-//ChamberMaster//Event Calendar 2.0//EN
METHOD:PUBLISH
X-PUBLISHED-TTL:P3D
REFRESH-INTERVAL:P3D
CALSCALE:GREGORIAN
BEGIN:VEVENT
DTSTART:20171215T133000Z
DTEND:20171215T150000Z
X-MICROSOFT-CDO-ALLDAYEVENT:FALSE
SUMMARY:Refresh Friday: December - "Wellness"
DESCRIPTION:Irene (Bunny) Boyle\, Worksite Wellness Initiative Director\, TriCounty Area Chamber of Commerce\, will focus on the Dimensions of Wellness and Balancing Your Health for the New Year.  There is more to health than losing weight\, moving more and making sure your cholesterol is in the 'right' range.  You will learn how to restore balance in your life by understanding and integrating all "Dimensions of Wellness".  Attend this session and get motivated with some fun interactive activities.  Also enter your Business Card for some door prize drawings.
X-ALT-DESC;FMTTYPE=text/html:<strong><span style="font-family:times new roman\,serif\;"><span style="font-size:12.0pt\;">Irene (Bunny) Boyle</span></span></strong><span style="font-family:times new roman\,serif\;"><span style="font-size:12.0pt\;">\, Worksite Wellness Initiative Director\, TriCounty Area Chamber of Commerce\, will focus on the <strong>Dimensions of Wellness </strong>and<strong> Balancing Your Health for the New Year</strong>.&nbsp\; There is more to health than losing weight\, moving more and making sure your cholesterol is in the &lsquo\;right&rsquo\; range.&nbsp\; You will learn how to restore balance in your life by understanding and integrating all <strong>&ldquo\;Dimensions of Wellness&rdquo\;.</strong>&nbsp\; Attend this session and get motivated with some fun interactive activities.&nbsp\; Also enter your Business Card for some door prize drawings.</span></span>
LOCATION:Chamber Office 152 E. High St.\, Suite 360 Pottstown\, PA 19464
UID:e.2183.848772
SEQUENCE:3
DTSTAMP:20260421T080011Z
URL:https://business.tricountyareachamber.com/events/details/refresh-friday-december-wellness-848772
END:VEVENT

END:VCALENDAR
