BEGIN:VCALENDAR
VERSION:2.0
PRODID:-//ChamberMaster//Event Calendar 2.0//EN
METHOD:PUBLISH
X-PUBLISHED-TTL:P3D
REFRESH-INTERVAL:P3D
CALSCALE:GREGORIAN
BEGIN:VEVENT
DTSTART:20180223T133000Z
DTEND:20180223T150000Z
X-MICROSOFT-CDO-ALLDAYEVENT:FALSE
SUMMARY:Refresh Friday: February - "Goals"
DESCRIPTION:Peg Calvario\, PegCalvario Coaching & Consulting\, LLC will focus on "Secrets to Happiness" and how pursuing your goals can help lead to being Happier at Work and in Your Life.
X-ALT-DESC;FMTTYPE=text/html:<strong><span style="font-family: times new roman\,serif\;"><span style="font-size: 12pt\;">Peg Calvario</span></span></strong><span style="font-family: times new roman\,serif\;"><span style="font-size: 12pt\;">\, PegCalvario Coaching &amp\; Consulting\, LLC will focus on <strong>&ldquo\;Secrets to Happiness&rdquo\;</strong> and how pursuing your goals can help lead to being <strong>Happier at Work and in Your Life</strong>.</span></span>
LOCATION:Chamber Office 152 E. High St.\, Suite 360 Pottstown\, PA 19464
UID:e.2183.848872
SEQUENCE:3
DTSTAMP:20260421T110316Z
URL:https://business.tricountyareachamber.com/events/details/refresh-friday-february-goals-848872
END:VEVENT

END:VCALENDAR
