BEGIN:VCALENDAR
VERSION:2.0
PRODID:-//ChamberMaster//Event Calendar 2.0//EN
METHOD:PUBLISH
X-PUBLISHED-TTL:P3D
REFRESH-INTERVAL:P3D
CALSCALE:GREGORIAN
BEGIN:VEVENT
DTSTART:20250919T123000Z
DTEND:20250919T140000Z
X-MICROSOFT-CDO-ALLDAYEVENT:FALSE
SUMMARY:Refresh Friday: Fierce & Automated
DESCRIPTION:Refresh Friday Class\n\n"Fierce & Automated: The AI Blueprint to Buy Back Your Time\, Build a Machine\, and Blow Past the Competition"\n\nFriday\, September 19\, 2025\n\nMontgomery County Community College - South Hall 216\n\n8:30 AM- 10 AM\n\nA high-voltage experience for small business owners who are tired of spinning their wheels and ready to build a business that works with or without them.\n\n \n\nIJoin national AI speaker and small business systems strategist Deb Spence for a transformative\, no-fluff session where you'll learn how to:\n\n\n	Use AI and automation to replace chaos with clarity\n	Automate lead flow\, follow-up\, and content with simple tools\n	Scale like a pro without sacrificing your sanity or schedule\n\n\nWhether you're a solo powerhouse or leading a small team\, you'll walk away with a step-by-step strategy to stop being your business's bottleneck and start being its visionary.\n\nThis isn't theory. It's the Fierce way to scale.\n\n \n\n3 Takeaways that you'll gain from attending:\n\n\n	\n	1. You're Not Just Building a Business You're Building Freedom.\n	Learn how to unleash AI to handle 80% of the work that's stealing your peace\, profits\, and potential. We'll show you how to automate your systems and finally lead instead of chase.\n\n	"Every hour you automate is an hour you take back for vision\, legacy\, and life. That's not tech it's liberation."\n\n	\n	\n\n	  2. Turn Your Hustle Into a Machine That Never Sleeps.\n	This isn't about working harder it's about making your business work without you in the room. You'll leave with plug-and-play tools to automate follow-ups\, lead gen\, content\, and more with precision and power.\n\n	"AI is the silent partner that never takes a day off\, never needs coffee\, and always closes on time."\n\n	\n	\n\n	  3. Fall Back in Love With Your Business Because Chaos Is Not the Cost of Success.\n\n	Most small business owners are drowning in tasks they hate. We'll show you how to automate the grind and get back to the work that lights you up the reason you started in the first place.\n\n	"Your dream business doesn't require burnout. It requires a blueprint and now you've got one."
X-ALT-DESC;FMTTYPE=text/html:<p><strong style="font-size: 18px\;">Refresh Friday Class</strong><br />\n<span style="font-size:20px\;"><strong><span style="font-family:aptos\,sans-serif\;">&ldquo\;Fierce &amp\; Automated: The AI Blueprint to Buy Back Your Time\, Build a Machine\, and Blow Past the Competition&rdquo\;</span></strong></span><br />\n<span style="font-size:18px\;"><span style="font-family:arial\;"><strong>Friday\,<span style="color:#000000\;"> September 19\, 2025</span></strong><br />\nMontgomery County Community College - South Hall 216<br />\n<strong>8:30 AM- 10 AM</strong></span></span></p>\n\n<p><em><span style="font-family: aptos\, sans-serif\;"><span style="font-size: 12pt\;">A high-voltage experience for small business owners who are tired of spinning their wheels and ready to build a business that works&mdash\;with or without them.</span></span></em><br />\n&nbsp\;</p>\n\n<p><span style="font-size:18px\;"><span style="font-family:arial\;">I</span></span>Join national AI speaker and small business systems strategist <strong><span style="font-family:aptos\,sans-serif\;">Deb Spence</span></strong> for a transformative\, no-fluff session where you&#39\;ll learn how to:</p>\n\n<ul>\n	<li>Use AI and automation to replace chaos with clarity</li>\n	<li>Automate lead flow\, follow-up\, and content with simple tools</li>\n	<li>Scale like a pro without sacrificing your sanity or schedule</li>\n</ul>\n\n<p>Whether you&#39\;re a solo powerhouse or leading a small team\, you&rsquo\;ll walk away with a <em><span style="font-family:aptos\,sans-serif\;">step-by-step strategy</span></em> to stop being your business&rsquo\;s bottleneck&mdash\;and start being its visionary.<br />\n<span style="font-family:aptos\,sans-serif\;"><span style="font-size:12.0pt\;">This isn&rsquo\;t theory. It&rsquo\;s the <em>Fierce way</em> to scale.</span></span><br />\n<span style="font-size:18px\;"><span style="font-family:arial\;">&nbsp\;<br />\n<strong>3 Takeaways that you&#39\;ll gain from attending:</strong></span></span></p>\n\n<ul>\n	<li>\n	<h4><strong><span style="font-family:aptos\,sans-serif\;">1. </span></strong><em><span style="font-family:aptos\,sans-serif\;">You&rsquo\;re Not Just Building a Business&mdash\;You&rsquo\;re Building Freedom.</span></em></h4>\n	Learn how to unleash AI to handle 80% of the work that&rsquo\;s stealing your peace\, profits\, and potential. We&rsquo\;ll show you how to automate your systems and finally <em><span style="font-family:aptos\,sans-serif\;">lead</span></em> instead of chase.<br />\n	<em><span style="font-family:aptos\,sans-serif\;">&quot\;Every hour you automate is an hour you take back for vision\, legacy\, and life. That&rsquo\;s not tech&mdash\;it&rsquo\;s liberation.&quot\;</span></em>\n\n	<div align="center" style="text-align:center\;">\n	<hr align="center" size="2" width="100%" /></div>\n\n	<h4><span style="font-family:segoe ui emoji\,sans-serif\;">&#128188\;</span> <strong><span style="font-family:aptos\,sans-serif\;">2. </span></strong><em><span style="font-family:aptos\,sans-serif\;">Turn Your Hustle Into a Machine That Never Sleeps.</span></em></h4>\n	This isn&#39\;t about working harder&mdash\;it&rsquo\;s about making your business work <em><span style="font-family:aptos\,sans-serif\;">without you in the room.</span></em> You&rsquo\;ll leave with plug-and-play tools to automate follow-ups\, lead gen\, content\, and more&mdash\;with precision and power.<br />\n	<em><span style="font-family:aptos\,sans-serif\;">&quot\;AI is the silent partner that never takes a day off\, never needs coffee\, and always closes on time.&quot\;</span></em>\n\n	<div align="center" style="text-align:center\;">\n	<hr align="center" size="2" width="100%" /></div>\n\n	<h4><span style="font-family:segoe ui emoji\,sans-serif\;">&#129504\;</span> <strong><span style="font-family:aptos\,sans-serif\;">3. </span></strong><em><span style="font-family:aptos\,sans-serif\;">Fall Back in Love With Your Business&mdash\;Because Chaos Is Not the Cost of Success.</span></em></h4>\n\n	<p>Most small business owners are drowning in tasks they hate. We&rsquo\;ll show you how to automate the grind and get back to the work that lights you up&mdash\;the reason you started in the first place.<br />\n	<em><span style="font-family:aptos\,sans-serif\;">&quot\;Your dream business doesn&rsquo\;t require burnout. It requires a blueprint&mdash\;and now you&rsquo\;ve got one.&quot\;</span></em></p>\n	</li>\n</ul>\n
LOCATION:Montgomery County Community College - South Hall 216 Pottstown\, PA
UID:e.2183.862711
SEQUENCE:3
DTSTAMP:20260419T160046Z
URL:https://business.tricountyareachamber.com/events/details/refresh-friday-fierce-automated-862711
END:VEVENT

END:VCALENDAR
