BEGIN:VCALENDAR
VERSION:2.0
PRODID:-//ChamberMaster//Event Calendar 2.0//EN
METHOD:PUBLISH
X-PUBLISHED-TTL:P3D
REFRESH-INTERVAL:P3D
CALSCALE:GREGORIAN
BEGIN:VEVENT
DTSTART:20180126T133000Z
DTEND:20180126T150000Z
X-MICROSOFT-CDO-ALLDAYEVENT:FALSE
SUMMARY:Refresh Friday: January - "Culture"
DESCRIPTION:Scott McDevitt\, President/CEO\, Translogistics\, will focus on the "10 Steps To Go From the Culture You Have To The Culture You Want".  It is important to have the right management team to implement changes\, a Leader casting the right vision\, a framework to build the culture around\, getting input from all the employees in helping define the culture\, and then implementing it.\n\n\n\nOnline registration closes on Thursday\, January 25 at 11 AM.
X-ALT-DESC;FMTTYPE=text/html:<strong><span style="font-family: times new roman\,serif\;"><span style="font-size: 12pt\;">Scott McDevitt</span></span></strong><span style="font-family: times new roman\,serif\;"><span style="font-size: 12pt\;">\, President/CEO\, Translogistics\, will focus on the <strong>&ldquo\;10 Steps To Go From the Culture You Have To The Culture You Want&rdquo\;</strong>.&nbsp\; It is important to have the right management team to implement changes\, a Leader casting the right vision\, a framework to build the culture around\, getting input from all the employees in helping define the culture\, and then implementing it.<br />\n<br />\n<strong><em><span style="font-size: 12px\;">Online registration closes on Thursday\, January 25 at 11 AM.</span></em></strong></span></span>
LOCATION:Chamber Office 152 E. High St.\, Suite 360 Pottstown\, PA 19464
UID:e.2183.848812
SEQUENCE:3
DTSTAMP:20260421T094112Z
URL:https://business.tricountyareachamber.com/events/details/refresh-friday-january-culture-848812
END:VEVENT

END:VCALENDAR
