BEGIN:VCALENDAR
VERSION:2.0
PRODID:-//ChamberMaster//Event Calendar 2.0//EN
METHOD:PUBLISH
X-PUBLISHED-TTL:P3D
REFRESH-INTERVAL:P3D
CALSCALE:GREGORIAN
BEGIN:VEVENT
DTSTART:20180323T123000Z
DTEND:20180323T140000Z
X-MICROSOFT-CDO-ALLDAYEVENT:FALSE
SUMMARY:Refresh Friday: March - "Advertising"
DESCRIPTION:Take a "fresh" look at your business and ask yourself some tough questions: Is my advertising budget working or non-existent?  Would I patronize my business?  And then\, How do I stand out amongst my competition?  Linda Jacobs\, owner of Downtown Dezign\, will provide helpful answers and give you a "fresh" new perspective on your business.
X-ALT-DESC;FMTTYPE=text/html:<span style="font-family: times new roman\,serif\;"><span style="font-size: 12pt\;">Take a <strong>&ldquo\;fresh&rdquo\;</strong> look at your business and ask yourself some tough questions: Is my advertising budget working or non-existent?&nbsp\; Would I patronize my business?&nbsp\; And then\, How do I stand out amongst my competition?&nbsp\; <strong>Linda Jacobs</strong>\, owner of Downtown Dezign\, will provide helpful answers and give you a <strong>&ldquo\;fresh&rdquo\;</strong> new perspective on your business.</span></span>
LOCATION:Chamber Office 152 E. High St.\, Suite 360 Pottstown\, PA 19464
UID:e.2183.848883
SEQUENCE:3
DTSTAMP:20260421T123556Z
URL:https://business.tricountyareachamber.com/events/details/refresh-friday-march-advertising-848883
END:VEVENT

END:VCALENDAR
