BEGIN:VCALENDAR
VERSION:2.0
PRODID:-//ChamberMaster//Event Calendar 2.0//EN
METHOD:PUBLISH
X-PUBLISHED-TTL:P3D
REFRESH-INTERVAL:P3D
CALSCALE:GREGORIAN
BEGIN:VEVENT
DTSTART:20171117T133000Z
DTEND:20171117T150000Z
X-MICROSOFT-CDO-ALLDAYEVENT:FALSE
SUMMARY:Refresh Friday: November - "Networking"
DESCRIPTION:Are you Tired Of Networking?  or is your Networking Tired?  Refresh your marketing efforts with Award Winning Networker and "Super Connector" David Green\, Sound Marketing Resources/Hold Time Advantage.  This interactive session will bring new perspectives and suggest ways to Increase Your Success.  Dave will focus on what to do before\, during and after your networking event and what to do with your Elevator Speech.  Bring along 2 or 3 of YOUR Best Tips to share.
X-ALT-DESC;FMTTYPE=text/html:<strong><span style="font-family:times new roman\,serif\;"><span style="font-size:12.0pt\;">Are you Tired Of Networking? &hellip\;or is your Networking Tired?&nbsp\; </span></span></strong><span style="font-family:times new roman\,serif\;"><span style="font-size:12.0pt\;">Refresh your marketing efforts with Award Winning Networker and &ldquo\;Super Connector&rdquo\;<strong> David Green\, </strong>Sound Marketing Resources/Hold Time Advantage.&nbsp\; This interactive session will bring new perspectives and suggest ways to <strong>Increase Your Success</strong>.&nbsp\; Dave will focus on what to do<strong> before\, during and after your networking event </strong>and what to do with your<strong> Elevator Speech.&nbsp\; </strong>Bring along 2 or 3 of<strong> YOUR </strong>Best Tips to share.</span></span>
LOCATION:Chamber Office 152 E. High St.\, Suite 360 Pottstown\, PA 19464
UID:e.2183.848746
SEQUENCE:3
DTSTAMP:20260421T060630Z
URL:https://business.tricountyareachamber.com/events/details/refresh-friday-november-networking-848746
END:VEVENT

END:VCALENDAR
