BEGIN:VCALENDAR
VERSION:2.0
PRODID:-//ChamberMaster//Event Calendar 2.0//EN
METHOD:PUBLISH
X-PUBLISHED-TTL:P3D
REFRESH-INTERVAL:P3D
CALSCALE:GREGORIAN
BEGIN:VEVENT
DTSTART:20171027T123000Z
DTEND:20171027T140000Z
X-MICROSOFT-CDO-ALLDAYEVENT:FALSE
SUMMARY:Refresh Friday: October - "Public Speaking" in Partnership with TCN
DESCRIPTION:"Persuasion is the Currency of Business Communication".  If you aspire to effectively convey your ideas and influence others to take action\, mastery of presentation skills is the key to your success.  As we continue our "Refresh Fridays"\, Adrean Turner\, Coach Adrean\, Career Fulfillment Expert\, will focus on how to gain confidence for public speaking!  Discover ways to prepare speeches\, perfect your performance and deliver impactful presentations that enhance career opportunities.
X-ALT-DESC;FMTTYPE=text/html:<strong><span style="font-family:times new roman\,serif\;"><span style="font-size:12.0pt\;">&ldquo\;Persuasion is the Currency of Business Communication&rdquo\;.</span></span></strong><span style="font-family:times new roman\,serif\;"><span style="font-size:12.0pt\;">&nbsp\; If you aspire to effectively convey your ideas and influence others to take action\, mastery of presentation skills is the key to your success.&nbsp\; As we continue our<strong> &ldquo\;Refresh Fridays&rdquo\;\, Adrean Turner</strong>\, <strong>Coach Adrean</strong>\, Career Fulfillment Expert\, will focus on how to gain confidence for <strong>public</strong> <strong>speaking</strong>!&nbsp\; Discover ways to prepare speeches\, perfect your performance and deliver impactful presentations that enhance career opportunities.</span></span>
LOCATION:Chamber Office 152 E. High St.\, Suite 360 Pottstown\, PA 19464
UID:e.2183.848725
SEQUENCE:3
DTSTAMP:20260421T043228Z
URL:https://business.tricountyareachamber.com/events/details/refresh-friday-october-public-speaking-in-partnership-with-tcn-848725
END:VEVENT

END:VCALENDAR
