BEGIN:VCALENDAR
VERSION:2.0
PRODID:-//ChamberMaster//Event Calendar 2.0//EN
METHOD:PUBLISH
X-PUBLISHED-TTL:P3D
REFRESH-INTERVAL:P3D
CALSCALE:GREGORIAN
BEGIN:VEVENT
DTSTART:20221202T133000Z
DTEND:20221202T150000Z
X-MICROSOFT-CDO-ALLDAYEVENT:FALSE
SUMMARY:Refresh Friday - Uncover Customer's Needs & Make More Sales
DESCRIPTION:Are you feeling frustrated and awkward when it comes to talking about yourself and selling your own business.  Learn the right questions to ask your customers to help you gain confidence in your sales ability.  You will be energized when you understand how you can sell by valuing your customers and solving their problems.\n\n \n\nDuring this interactive presentation\, Brooke Greening of Building Momentum Resources will teach:\n\n\n	Know Who You're Talking to.\n	Don't Settle For the First Problem.\n	Don't Assume All Your Customers Have the Same Problem.
X-ALT-DESC;FMTTYPE=text/html:<h2 style="color: rgb(14\, 16\, 26)\; margin-top: 0in\; margin-bottom: 0in\;"><span style="font-size:14px\;"><span style="font-family:arial\;">Are you feeling frustrated and awkward when it comes to talking about yourself and selling your own business.&nbsp\; Learn the right questions to ask your customers to help you gain confidence in your sales ability.&nbsp\; You will be energized when you understand how you can sell by valuing your customers and solving their problems.</span></span></h2>\n\n<h2 style="margin: 0in 0in 0pt\;"><span style="font-size:14px\;"><span style="font-family:arial\;">&nbsp\;</span></span></h2>\n\n<h2 style="margin: 0in 0in 0pt\;"><span style="font-size:14px\;"><span style="font-family:arial\;">During this interactive presentation\, Brooke Greening of Building Momentum Resources will teach:</span></span></h2>\n\n<ul>\n	<li>Know Who You&#39\;re Talking to.</li>\n	<li>Don&#39\;t Settle For the First Problem.</li>\n	<li>Don&#39\;t Assume All Your Customers Have the Same Problem.</li>\n</ul>\n
LOCATION:TCACC Conference Room Suite 200
UID:e.2183.857857
SEQUENCE:3
DTSTAMP:20260422T111145Z
URL:https://business.tricountyareachamber.com/events/details/refresh-friday-uncover-customer-s-needs-make-more-sales-857857
END:VEVENT

END:VCALENDAR
