BEGIN:VCALENDAR
VERSION:2.0
PRODID:-//ChamberMaster//Event Calendar 2.0//EN
METHOD:PUBLISH
X-PUBLISHED-TTL:P3D
REFRESH-INTERVAL:P3D
CALSCALE:GREGORIAN
BEGIN:VEVENT
DTSTART:20170920T153000Z
DTEND:20170920T173000Z
X-MICROSOFT-CDO-ALLDAYEVENT:FALSE
SUMMARY:Refresh Wednesday: September - "Google"
DESCRIPTION:"Business to Business Google"\nDigital marketing experts at DaBrian Marketing Group\, will focus on how to turn business prospects into sales through effective digital marketing strategies with CRMs and marketing automation.  The event includes an exclusive live-stream from Google only available through participating official Google Partners\, such as DaBrian Marketing Group.  You will learn additional tips that will help your business increase brand awareness\, generate leads\, increase sales\, and measure your digital marketing strategies.  The team will also evaluate your website\, local listings\, or AdWords campaigns to provide recommendations based on increasing your revenue. \n\n\n\nMore information on DaBrian Marketing Group's B2B Google is available by clicking here.\n\n\n\nPlease feel free to brown bag a lunch.  Beverages will be provided.
X-ALT-DESC;FMTTYPE=text/html:<div style="text-align: center\;"><span style="font-size:16px\;"><strong>&quot\;Business to Business Google&quot\;</strong></span></div>\nDigital marketing experts at <strong>DaBrian Marketing Group</strong>\, will focus on how to turn business prospects into sales through effective digital marketing strategies with CRMs and marketing automation.&nbsp\; The event includes an exclusive live-stream from Google only available through participating official Google Partners\, such as <strong>DaBrian</strong> <strong>Marketing Group</strong>.&nbsp\; You will learn additional tips that will help your business increase brand awareness\, generate leads\, increase sales\, and measure your digital marketing strategies.&nbsp\; The team will also evaluate your website\, local listings\, or AdWords campaigns to provide recommendations based on increasing your revenue.&nbsp\;<br />\n<br />\nMore information on DaBrian Marketing Group&#39\;s B2B Google is available by <a href="http://dabrianmarketing.com/industries/business-to-business/">clicking here</a>.<br />\n<br />\n<strong><span style="font-family:times new roman\,serif\;"><span style="font-size:12.0pt\;">Please feel free to brown bag a lunch.&nbsp\; Beverages will be provided.</span></span></strong>
LOCATION:Chamber Office 152 E. High St.\, Suite 360 Pottstown\, PA 19464
UID:e.2183.848724
SEQUENCE:3
DTSTAMP:20260421T030217Z
URL:https://business.tricountyareachamber.com/events/details/refresh-wednesday-september-google-848724
END:VEVENT

END:VCALENDAR
