BEGIN:VCALENDAR
VERSION:2.0
PRODID:-//ChamberMaster//Event Calendar 2.0//EN
METHOD:PUBLISH
X-PUBLISHED-TTL:P3D
REFRESH-INTERVAL:P3D
CALSCALE:GREGORIAN
BEGIN:VEVENT
DTSTART:20170224T010000Z
DTEND:20170224T040000Z
X-MICROSOFT-CDO-ALLDAYEVENT:FALSE
SUMMARY:Reggae Night with RED-I\, Firefly Cafe
DESCRIPTION:The Other Farm Brewing Company\, located at 128 E. Philadelphia Ave. in Boyertown\, will host its monthly Reggae Night on Thursday\, Feb. 23. The event will feature food from Firefly Cafe and music from local reggae band RED-I. Admission is $5. Doors open at 7 p.m.\, with music and food service beginning at 8 p.m. For information\, visit fireflycafeboyertown.com or call the cafe at 484-415-5066. Boyertown's own Firefly Cafe will offer vegan\, Caribbean-inspired street food for purchase during the event. Music will be provided by RED-I\, a Boyertown-based reggae band fronted by Firefly Cafe co-owner Michael Arcangel on guitar and vocals. Other members include Stephen Kurtz on bass\, Paul Jameson on guitar\, Kyle Seivard on keyboard\, Jordan Lambert on percussion and Tim Leslie on drums. Join RED-I on Facebook at facebook.com/REDIMusic.
X-ALT-DESC;FMTTYPE=text/html:The Other Farm Brewing Company\, located at 128 E. Philadelphia Ave. in Boyertown\, will host its monthly Reggae Night on Thursday\, Feb. 23. The event will feature food from Firefly Cafe and music from local reggae band RED-I. Admission is $5. Doors open at 7 p.m.\, with music and food service beginning at 8 p.m. For information\, visit fireflycafeboyertown.com or call the cafe at 484-415-5066. Boyertown&rsquo\;s own Firefly Cafe will offer vegan\, Caribbean-inspired street food for purchase during the event. Music will be provided by RED-I\, a Boyertown-based reggae band fronted by Firefly Cafe co-owner Michael Arcangel on guitar and vocals. Other members include Stephen Kurtz on bass\, Paul Jameson on guitar\, Kyle Seivard on keyboard\, Jordan Lambert on percussion and Tim Leslie on drums. Join RED-I on Facebook at facebook.com/REDIMusic.
LOCATION:The Other Farm Brewing Company\, 128 E. Philadelphia Ave.\, Boyertown\, PA 19512
UID:e.2183.847482
SEQUENCE:3
DTSTAMP:20260420T164140Z
URL:https://business.tricountyareachamber.com/events/details/reggae-night-with-red-i-firefly-cafe-847482
END:VEVENT

END:VCALENDAR
