BEGIN:VCALENDAR
VERSION:2.0
PRODID:-//ChamberMaster//Event Calendar 2.0//EN
METHOD:PUBLISH
X-PUBLISHED-TTL:P3D
REFRESH-INTERVAL:P3D
CALSCALE:GREGORIAN
BEGIN:VEVENT
DTSTART:20160218T210000Z
DTEND:20160218T230000Z
X-MICROSOFT-CDO-ALLDAYEVENT:FALSE
SUMMARY:Regional Chamber Business Card Exchange
DESCRIPTION:Enjoy an evening of refreshments and make connections with over 200 fellow chamber members. Participating Chambers of Commerce along with TriCounty Area Chamber are Perkiomen Valley Chamber\, Phoenixville Regional Chamber\, Spring Ford Chamber and Upper Perkiomen Valley Chamber. Remember to bring plenty of business cards.\n\n\n\nMembers only!\n\n\n\nReservations appreciated
X-ALT-DESC;FMTTYPE=text/html:<p><span style="font-size:12px\;"><span style="font-family:arial\;">Enjoy an evening of refreshments and make connections with over 200 fellow chamber members.&nbsp\;Participating Chambers of Commerce along with TriCounty Area Chamber are Perkiomen Valley Chamber\, Phoenixville Regional Chamber\, Spring Ford Chamber and Upper Perkiomen Valley Chamber.&nbsp\;Remember to bring plenty of business cards.</span></span><br />\n<br />\n<strong style="line-height: 23.1111px\;"><span style="color: rgb(255\, 0\, 0)\;">Members only!</span></strong><br />\n<br />\n<span style="font-size:12px\;">Reservations appreciated</span></p>\n
LOCATION:Copperfield Inn at Lakeside 594 W. Ridge Pike Limerick\, PA 19468
UID:e.2183.845127
SEQUENCE:3
DTSTAMP:20260425T191456Z
URL:https://business.tricountyareachamber.com/events/details/regional-chamber-business-card-exchange-02-18-2016-845127
END:VEVENT

END:VCALENDAR
