BEGIN:VCALENDAR
VERSION:2.0
PRODID:-//ChamberMaster//Event Calendar 2.0//EN
METHOD:PUBLISH
X-PUBLISHED-TTL:P3D
REFRESH-INTERVAL:P3D
CALSCALE:GREGORIAN
BEGIN:VEVENT
DTSTART:20161103T210000Z
DTEND:20161103T223000Z
X-MICROSOFT-CDO-ALLDAYEVENT:FALSE
SUMMARY:Retirement - How to Make your Money Last
DESCRIPTION:
X-ALT-DESC;FMTTYPE=text/html:
LOCATION:Hearthstone at Amity 139 Old Swede Road Douglassville\, PA 19518
UID:e.2183.847208
SEQUENCE:3
DTSTAMP:20260422T115340Z
URL:https://business.tricountyareachamber.com/events/details/retirement-how-to-make-your-money-last-847208
END:VEVENT

END:VCALENDAR
