BEGIN:VCALENDAR
VERSION:2.0
PRODID:-//ChamberMaster//Event Calendar 2.0//EN
METHOD:PUBLISH
X-PUBLISHED-TTL:P3D
REFRESH-INTERVAL:P3D
CALSCALE:GREGORIAN
BEGIN:VEVENT
DTSTART:20170509T123000Z
DTEND:20170509T140000Z
X-MICROSOFT-CDO-ALLDAYEVENT:FALSE
SUMMARY:Retirement: Making Your Money Last
DESCRIPTION:Retirement: Making Your Money Last\n\nHow Do You Picture Your Retirement?\n\nJoin us for our presentation Retirement: Making Your Money Last. We'll discuss strategies designed to help you work toward fulfilling your retirement expectations. And we'll address key concerns such as inflation\, health care expenses and market volatility as well as ways to prepare in advance for things that may not go as expected. \n\nSeating is limited. Call today to reserve space for yourself and a guest at this event.\n\n\n\nQuestions - contact Rachel Kunicki or Bonnie L. Thompson at 610.326.1035.
X-ALT-DESC;FMTTYPE=text/html:<h2 style="box-sizing: border-box\; font-size: 24px\; font-weight: normal\; margin: 0px 0px 20px\; color: rgb(91\, 88\, 84)\; font-family: ProximaNova\, &quot\;Helvetica Neue&quot\;\, Helvetica\, Arial\, sans-serif\; background-color: rgb(255\, 255\, 255)\;">Retirement: Making Your Money Last</h2>\n\n<p style="box-sizing: border-box\; margin-top: 0px\; color: rgb(91\, 88\, 84)\; font-family: ProximaNova\, &quot\;Helvetica Neue&quot\;\, Helvetica\, Arial\, sans-serif\; font-size: 16px\; background-color: rgb(255\, 255\, 255)\;" xmlns="http://www.w3.org/1999/xhtml">How Do You Picture Your Retirement?</p>\n\n<p style="box-sizing: border-box\; margin-top: 0px\; color: rgb(91\, 88\, 84)\; font-family: ProximaNova\, &quot\;Helvetica Neue&quot\;\, Helvetica\, Arial\, sans-serif\; font-size: 16px\; background-color: rgb(255\, 255\, 255)\;" xmlns="http://www.w3.org/1999/xhtml">Join us for our presentation Retirement: Making Your Money Last. We&#39\;ll discuss strategies designed to help you work toward fulfilling your retirement expectations. And we&#39\;ll address key concerns such as inflation\, health care expenses and market volatility as well as ways to prepare in advance for things that may not go as expected.&nbsp\;</p>\n\n<p style="box-sizing: border-box\; margin-top: 0px\; color: rgb(91\, 88\, 84)\; font-family: ProximaNova\, &quot\;Helvetica Neue&quot\;\, Helvetica\, Arial\, sans-serif\; font-size: 16px\; background-color: rgb(255\, 255\, 255)\;" xmlns="http://www.w3.org/1999/xhtml">Seating is limited. Call today to reserve space for yourself and a guest at this event.<br />\n<br />\nQuestions - contact Rachel Kunicki or Bonnie L. Thompson at 610.326.1035.</p>\n
LOCATION:Frederick Living Community 2849 Big Road Frederick\, PA 19435
UID:e.2183.847615
SEQUENCE:3
DTSTAMP:20260420T200155Z
URL:https://business.tricountyareachamber.com/events/details/retirement-making-your-money-last-847615
END:VEVENT

END:VCALENDAR
