BEGIN:VCALENDAR
VERSION:2.0
PRODID:-//ChamberMaster//Event Calendar 2.0//EN
METHOD:PUBLISH
X-PUBLISHED-TTL:P3D
REFRESH-INTERVAL:P3D
CALSCALE:GREGORIAN
BEGIN:VEVENT
DTSTART:20250909T140000Z
DTEND:20250909T150000Z
X-MICROSOFT-CDO-ALLDAYEVENT:FALSE
SUMMARY:Ribbon Cutting at CHDC Mobile Unit at MCCC South Hall Parking lot
DESCRIPTION:Grand Opening Celebration of the CHDC Mobile Dental Unit's new location at Montgomery County Community College right in the MCCC parking lot!\n\n\n\n \n\n \n\nThe ribbon cutting will be held at:\n\nMontgomery County Community College South Hall\n\n101 College Drive\, Pottstown\, PA 19464
X-ALT-DESC;FMTTYPE=text/html:<p font-size:="" open="" style="margin: 0px\; padding: 0px\; color: rgb(0\, 0\, 0)\; font-family: " text-align:="" white-space-collapse:=""><strong><span style="color:black\;"><span style="font-family:aptos\,sans-serif\;"><span style="font-size:11.0pt\;">Grand Opening Celebration</span></span></span></strong><span style="color:black\;"><span style="font-family:aptos\,sans-serif\;"><span style="font-size:11.0pt\;">&nbsp\;of the <strong>CHDC Mobile Dental Unit&rsquo\;s new location</strong>&nbsp\;at <strong>Montgomery County Community College</strong>&mdash\;right in the MCCC parking lot!</span></span></span><br />\n<br />\n&nbsp\;</p>\n\n<p font-size:="" open="" style="margin: 0px\; padding: 0px\; color: rgb(0\, 0\, 0)\; font-family: " text-align:="" white-space-collapse:="">&nbsp\;</p>\n\n<p font-size:="" open="" style="margin: 0px\; padding: 0px\; color: rgb(0\, 0\, 0)\; font-family: " text-align:="" white-space-collapse:=""><span style="font-size:14px\;"><span style="font-family: Arial\, Verdana\, Helvetica\, sans-serif\;">The ribbon cutting will be held at:</span></span></p>\n\n<p _ngcontent-ng-c3449483995="" style="box-sizing: border-box\; margin: 0px\; color: rgb(0\, 0\, 0)\; padding: 0px\; font-size: 1.125rem\; font-weight: 700\; line-height: 1.35\; font-family: Roboto\, Arial\, sans-serif\;"><span style="font-size:14px\;">Montgomery County Community College South Hall</span></p>\n\n<p _ngcontent-ng-c3449483995="" style="outline: 0px\; box-sizing: border-box\; margin: 0px\; color: rgb(0\, 0\, 0)\; padding: 0px\; font-size: 1.125rem\; font-weight: 700\; line-height: 1.35\; font-family: Roboto\, Arial\, sans-serif\;"><span style="font-size:14px\;"><a _ngcontent-ng-c3449483995="" href="https://www.google.com/maps/search/?api=1&amp\;query=101%20College%20Drive\,%20Pottstown\,%20PA%2019464" style="text-decoration-line: none\; box-sizing: border-box\; color: rgb(0\, 124\, 175)\; background-color: transparent\; overflow-wrap: break-word\; cursor: pointer\; transition: color 0.2s\, border-color 0.2s\, background-color 0.2s\; font-weight: 400\; font-size: 1.125rem\;" target="_blank">101 College Drive\, Pottstown\, PA 19464</a></span></p>\n
LOCATION:Montgomery County Community College South Hall 101 College Drive\, Pottstown\, PA 19464
UID:e.2183.863403
SEQUENCE:3
DTSTAMP:20260419T160125Z
URL:https://business.tricountyareachamber.com/events/details/ribbon-cutting-at-chdc-mobile-unit-at-mccc-south-hall-parking-lot-863403
END:VEVENT

END:VCALENDAR
