BEGIN:VCALENDAR
VERSION:2.0
PRODID:-//ChamberMaster//Event Calendar 2.0//EN
METHOD:PUBLISH
X-PUBLISHED-TTL:P3D
REFRESH-INTERVAL:P3D
CALSCALE:GREGORIAN
BEGIN:VEVENT
DTSTART:20250725T150000Z
DTEND:20250725T160000Z
X-MICROSOFT-CDO-ALLDAYEVENT:FALSE
SUMMARY:Ribbon Cutting at Hope Capital Investments
DESCRIPTION:Hope Capital Investments is holding a ribbon cutting for their new location.\n\n \n\n"Hope Capital investments is a full-service vertically integrated real estate investment\n\ncompany offering Sales\, Leasing\, Property Management\, Investments and Construction\n\nservices within the Pottstown community since 2016. Hope Capital Investments is a one\n\nstop shop for all real estate related needs\; Hope capital investments assist buyers and\n\nsellers for all real estate transactions as a broker\, property management for landlords\,\n\nleasing services for tenants\, partnerships for various investments\, and build ground up\n\nconstruction for residential and commercial customers."\n\n \n\nThis is a great opportunity to connect with local professionals\, tour the space\, and learn more about the innovative work Hope Capital Investments is doing.\n\n \n\nThe ribbon cutting will be held at 509 E. High Street\, Unit 1\, Pottstown\, PA 19464.
X-ALT-DESC;FMTTYPE=text/html:<p font-size:="" open="" style="margin: 0px\; padding: 0px\; color: rgb(0\, 0\, 0)\; font-family: " text-align:="" white-space-collapse:=""><span style="font-size: 14px\; font-family: Arial\, Verdana\, Helvetica\, sans-serif\;">Hope Capital Investments is holding a ribbon cutting for their new location.</span></p>\n\n<p font-size:="" open="" style="margin: 0px\; padding: 0px\; color: rgb(0\, 0\, 0)\; font-family: " text-align:="" white-space-collapse:="">&nbsp\;</p>\n\n<p font-size:="" open="" style="margin: 0px\; padding: 0px\; color: rgb(0\, 0\, 0)\; font-family: " text-align:="" white-space-collapse:=""><span style="font-family: Arial\, Verdana\, Helvetica\, sans-serif\;">&quot\;</span><span style="font-size:14px\;">Hope Capital investments is a full-service vertically integrated real estate investment<br />\ncompany offering Sales\, Leasing\, Property Management\, Investments and Construction<br />\nservices within the Pottstown community since 2016. Hope Capital Investments is a one<br />\nstop shop for all real estate related needs\; Hope capital investments assist buyers and<br />\nsellers for all real estate transactions as a broker\, property management for landlords\,<br />\nleasing services for tenants\, partnerships for various investments\, and build ground up<br />\nconstruction for residential and commercial customers.</span><span style="font-family: Arial\, Verdana\, Helvetica\, sans-serif\;">&quot\;</span><br />\n&nbsp\;</p>\n\n<p font-size:="" open="" style="margin: 0px\; padding: 0px\; color: rgb(0\, 0\, 0)\; font-family: " text-align:="" white-space-collapse:=""><span style="font-size: 14px\; font-family: Arial\, Verdana\, Helvetica\, sans-serif\;">This is a great opportunity to connect with local professionals\, tour the space\, and learn more about the innovative work Hope Capital Investments is doing.</span></p>\n\n<p font-size:="" open="" style="margin: 0px\; padding: 0px\; color: rgb(0\, 0\, 0)\; font-family: " text-align:="" white-space-collapse:="">&nbsp\;</p>\n\n<p font-size:="" open="" style="margin: 0px\; padding: 0px\; color: rgb(0\, 0\, 0)\; font-family: " text-align:="" white-space-collapse:=""><span style="font-size: 14px\; font-family: Arial\, Verdana\, Helvetica\, sans-serif\;">The ribbon cutting will be held at 509 E. High Street\, Unit 1\, Pottstown\, PA 19464.</span></p>\n
LOCATION:509 E. High Street\, Unit 1\, Pottstown\, PA 19464
UID:e.2183.862951
SEQUENCE:3
DTSTAMP:20260419T130359Z
URL:https://business.tricountyareachamber.com/events/details/ribbon-cutting-at-hope-capital-investments-862951
END:VEVENT

END:VCALENDAR
