BEGIN:VCALENDAR
VERSION:2.0
PRODID:-//ChamberMaster//Event Calendar 2.0//EN
METHOD:PUBLISH
X-PUBLISHED-TTL:P3D
REFRESH-INTERVAL:P3D
CALSCALE:GREGORIAN
BEGIN:VEVENT
DTSTART:20240802T160000Z
DTEND:20240802T190000Z
X-MICROSOFT-CDO-ALLDAYEVENT:FALSE
SUMMARY:Ribbon Cutting Changemaker
DESCRIPTION:RIBBON CUTTING CELEBRATION\n\nJoin us for a day of community\, empowerment\, and inspiration!\n\nDate: August 2\, 2024\n\nTime: 12:00 pm\n\nLocation: 635 E. High St.\, Pottstown\, PA 19464\n\nWelcome to Changemaker\n\nWe are thrilled to invite you to the ribbon cutting of our office! As a non-profit dedicated to empowering historically excluded communities\, we are excited to open our doors and share our mission with you.\n\nEvent Highlights:\n\nRibbon-Cutting Ceremony: Celebrate as we officially open our office space.\n\nGuest Speakers: Hear from inspiring leaders in our community.\n\nMusic: Enjoy DJ TBA\n\nLocal Artists: To Be Announced\n\nNetworking Opportunities: Connect with like-minded individuals and organizations.\n\nWhy Attend?\n\nBe Inspired: Learn about our mission and how we're making a difference.\n\nGet Involved: Discover volunteer opportunities and ways to support our cause.\n\nCelebrate Community: Join us in fostering a sense of unity and purpose.\n\nRSVP Today!\n\nPlease let us know if you can join us at https://forms.gle/GpdTRA1UKj4bbwUKA\n\nContact Us:\n\nFor more information\, please contact:\n\nEmail: 2023changemaker@gmail.com\n\nPhone: 267-733-4223\n\nWebsite: http://2023changemaker.org\n\nChangemaker\n\nEmpowering Communities\, Changing Lives\n\nFollow Us on Social Media:\n\nhttps://www.facebook.com/2023changemaker\n\nhttps://www.instagram.com/2023_changemaker/\n\nhttps://www.linkedin.com/company/changemaker2023
X-ALT-DESC;FMTTYPE=text/html:<div>RIBBON CUTTING CELEBRATION<br />\nJoin us for a day of community\, empowerment\, and inspiration!</div>\n\n<div>Date: August 2\, 2024<br />\nTime: 12:00 pm<br />\nLocation: 635 E. High St.\, Pottstown\, PA 19464</div>\n\n<div>Welcome to Changemaker<br />\nWe are thrilled to invite you to the ribbon cutting of our office! As a non-profit dedicated to empowering historically excluded communities\, we are excited to open our doors and share our mission with you.<br />\nEvent Highlights:<br />\nRibbon-Cutting Ceremony: Celebrate as we officially open our office space.<br />\nGuest Speakers: Hear from inspiring leaders in our community.<br />\nMusic: Enjoy DJ TBA<br />\nLocal Artists: To Be Announced<br />\nNetworking Opportunities: Connect with like-minded individuals and organizations.<br />\nWhy Attend?<br />\nBe Inspired: Learn about our mission and how we&#39\;re making a difference.<br />\nGet Involved: Discover volunteer opportunities and ways to support our cause.<br />\nCelebrate Community: Join us in fostering a sense of unity and purpose.</div>\n\n<div>RSVP Today!<br />\nPlease let us know if you can join us at&nbsp\;<a class="x1i10hfl xjbqb8w x1ejq31n xd10rxx x1sy0etr x17r0tee x972fbf xcfux6l x1qhh985 xm0m39n x9f619 x1ypdohk xt0psk2 xe8uvvx xdj266r x11i5rnm xat24cr x1mh8g0r xexx8yu x4uap5 x18d9i69 xkhd6sd x16tdsg8 x1hl2dhg xggy1nq x1a2a7pz x1sur9pj xkrqix3 x1fey0fg" href="https://forms.gle/GpdTRA1UKj4bbwUKA?fbclid=IwZXh0bgNhZW0CMTAAAR2pCqr-869aQKoTDWVOqC8s-LbKs30MGp8NErYBIFeHKY3y_cmnFCokbB4_aem_kqniaziKl-yCjFo6I5htDw" rel="nofollow noreferrer" style="cursor: pointer\; text-decoration-line: none\; list-style: none\; margin: 0px\; text-align: inherit\; border-style: none\; padding: 0px\; box-sizing: border-box\; border-width: 0px\; outline: none\; -webkit-tap-highlight-color: transparent\; touch-action: manipulation\; background-color: transparent\; display: inline\; font-family: inherit\;" tabindex="0" target="_blank">https://forms.gle/GpdTRA1UKj4bbwUKA</a><br />\nContact Us:<br />\nFor more information\, please contact:<br />\nEmail: 2023changemaker@gmail.com<br />\nPhone: 267-733-4223<br />\nWebsite:&nbsp\;<a class="x1i10hfl xjbqb8w x1ejq31n xd10rxx x1sy0etr x17r0tee x972fbf xcfux6l x1qhh985 xm0m39n x9f619 x1ypdohk xt0psk2 xe8uvvx xdj266r x11i5rnm xat24cr x1mh8g0r xexx8yu x4uap5 x18d9i69 xkhd6sd x16tdsg8 x1hl2dhg xggy1nq x1a2a7pz x1sur9pj xkrqix3 x1fey0fg" href="http://2023changemaker.org/?fbclid=IwZXh0bgNhZW0CMTAAAR2pCqr-869aQKoTDWVOqC8s-LbKs30MGp8NErYBIFeHKY3y_cmnFCokbB4_aem_kqniaziKl-yCjFo6I5htDw" rel="nofollow noreferrer" style="cursor: pointer\; text-decoration-line: none\; list-style: none\; margin: 0px\; text-align: inherit\; border-style: none\; padding: 0px\; box-sizing: border-box\; border-width: 0px\; outline: none\; -webkit-tap-highlight-color: transparent\; touch-action: manipulation\; background-color: transparent\; display: inline\; font-family: inherit\;" tabindex="0" target="_blank">http://2023changemaker.org</a></div>\n\n<div>Changemaker<br />\nEmpowering Communities\, Changing Lives<br />\nFollow Us on Social Media:<br />\n<a class="x1i10hfl xjbqb8w x1ejq31n xd10rxx x1sy0etr x17r0tee x972fbf xcfux6l x1qhh985 xm0m39n x9f619 x1ypdohk xt0psk2 xe8uvvx xdj266r x11i5rnm xat24cr x1mh8g0r xexx8yu x4uap5 x18d9i69 xkhd6sd x16tdsg8 x1hl2dhg xggy1nq x1a2a7pz x1sur9pj xkrqix3 xzsf02u x1s688f" href="https://www.facebook.com/2023changemaker?__cft__[0]=AZXqsWj7wEEyswhwY7hbljMc6MQ0Q1yPz2opaDaJJpVNgIhd4RtvmYkEaBefFcnhM1cZgLQ392AKOddjbcX2MiZJOteJhFi5Jv3iH1dGKruy1o8ake8VOlQklsDXyd2WMQkwJ5shXwpNO8xUVz1X6jZkB-CXCBPZRktaBmbFCQxUIA&amp\;__tn__=q" style="cursor: pointer\; text-decoration-line: none\; list-style: none\; margin: 0px\; text-align: inherit\; border-style: none\; padding: 0px\; box-sizing: border-box\; border-width: 0px\; outline: none\; -webkit-tap-highlight-color: transparent\; font-weight: 600\; touch-action: manipulation\; background-color: transparent\; display: inline\; font-family: inherit\;" tabindex="0"><span style="font-family:inherit">https://www.facebook.com/2023changemaker</span></a><br />\n<a class="x1i10hfl xjbqb8w x1ejq31n xd10rxx x1sy0etr x17r0tee x972fbf xcfux6l x1qhh985 xm0m39n x9f619 x1ypdohk xt0psk2 xe8uvvx xdj266r x11i5rnm xat24cr x1mh8g0r xexx8yu x4uap5 x18d9i69 xkhd6sd x16tdsg8 x1hl2dhg xggy1nq x1a2a7pz x1sur9pj xkrqix3 x1fey0fg" href="https://www.instagram.com/2023_changemaker/?fbclid=IwZXh0bgNhZW0CMTAAAR3qXEOmSr21hSzBFQVRtUelSmhD5Kl7hE2I5XNhZPuZZLZq6Prqc6rJ7tc_aem_eUoP0V9cMOtbFLWj9MCXRg" rel="nofollow noreferrer" style="cursor: pointer\; text-decoration-line: none\; list-style: none\; margin: 0px\; text-align: inherit\; border-style: none\; padding: 0px\; box-sizing: border-box\; border-width: 0px\; outline: none\; -webkit-tap-highlight-color: transparent\; touch-action: manipulation\; background-color: transparent\; display: inline\; font-family: inherit\;" tabindex="0" target="_blank">https://www.instagram.com/2023_changemaker/</a><br />\n<a class="x1i10hfl xjbqb8w x1ejq31n xd10rxx x1sy0etr x17r0tee x972fbf xcfux6l x1qhh985 xm0m39n x9f619 x1ypdohk xt0psk2 xe8uvvx xdj266r x11i5rnm xat24cr x1mh8g0r xexx8yu x4uap5 x18d9i69 xkhd6sd x16tdsg8 x1hl2dhg xggy1nq x1a2a7pz x1sur9pj xkrqix3 x1fey0fg" href="https://www.linkedin.com/company/changemaker2023?fbclid=IwZXh0bgNhZW0CMTAAAR1ib4_6BIfHBEZYDp3-Gz9EVWPC20xWBOR2kq9LCmgfDy5p1qbAYBij3Hs_aem_qntDKE7reLfF1GE9AsDy7Q" rel="nofollow noreferrer" style="cursor: pointer\; text-decoration-line: none\; list-style: none\; margin: 0px\; text-align: inherit\; border-style: none\; padding: 0px\; box-sizing: border-box\; border-width: 0px\; outline: none\; -webkit-tap-highlight-color: transparent\; touch-action: manipulation\; background-color: transparent\; display: inline\; font-family: inherit\;" tabindex="0" target="_blank">https://www.linkedin.com/company/changemaker2023</a></div>\n
LOCATION:635 E High Street Pottstown\, PA 19464
UID:e.2183.860965
SEQUENCE:3
DTSTAMP:20260421T083838Z
URL:https://business.tricountyareachamber.com/events/details/ribbon-cutting-changemaker-860965
END:VEVENT

END:VCALENDAR
