BEGIN:VCALENDAR
VERSION:2.0
PRODID:-//ChamberMaster//Event Calendar 2.0//EN
METHOD:PUBLISH
X-PUBLISHED-TTL:P3D
REFRESH-INTERVAL:P3D
CALSCALE:GREGORIAN
BEGIN:VEVENT
DTSTART:20170405T170000Z
DTEND:20170405T180000Z
X-MICROSOFT-CDO-ALLDAYEVENT:FALSE
SUMMARY:Ribbon Cutting - Drew P. Leck State Farm Agency
DESCRIPTION:Community centric insurance agency providing insurance and financial services customized for families! \n\n\n\nJoin us at the ribbon cutting ceremony celebrating this new business!
X-ALT-DESC;FMTTYPE=text/html:Community centric insurance agency providing insurance and financial services customized for families!&nbsp\;<br />\n<br />\nJoin us at the ribbon cutting ceremony celebrating this new business!
LOCATION:Drew P. Leck State Farm Agency 351 W. Schuylkill Rd.\, Square 6 Pottstown\, PA 19465
UID:e.2183.847561
SEQUENCE:3
DTSTAMP:20260420T200601Z
URL:https://business.tricountyareachamber.com/events/details/ribbon-cutting-drew-p-leck-state-farm-agency-847561
END:VEVENT

END:VCALENDAR
