BEGIN:VCALENDAR
VERSION:2.0
PRODID:-//ChamberMaster//Event Calendar 2.0//EN
METHOD:PUBLISH
X-PUBLISHED-TTL:P3D
REFRESH-INTERVAL:P3D
CALSCALE:GREGORIAN
BEGIN:VEVENT
DTSTART:20170517T140000Z
DTEND:20170517T150000Z
X-MICROSOFT-CDO-ALLDAYEVENT:FALSE
SUMMARY:Ribbon Cutting - Get Twisted
DESCRIPTION:Come celebrate a new business opening up in Pottstown - Get Twisted!
X-ALT-DESC;FMTTYPE=text/html:Come celebrate a new business opening up in Pottstown - Get Twisted!
LOCATION:Get Twisted 257 E. High Street Pottstown\, PA 19464
UID:e.2183.847643
SEQUENCE:3
DTSTAMP:20260420T195324Z
URL:https://business.tricountyareachamber.com/events/details/ribbon-cutting-get-twisted-847643
END:VEVENT

END:VCALENDAR
