BEGIN:VCALENDAR
VERSION:2.0
PRODID:-//ChamberMaster//Event Calendar 2.0//EN
METHOD:PUBLISH
X-PUBLISHED-TTL:P3D
REFRESH-INTERVAL:P3D
CALSCALE:GREGORIAN
BEGIN:VEVENT
DTSTART:20161110T230000Z
DTEND:20161111T010000Z
X-MICROSOFT-CDO-ALLDAYEVENT:FALSE
SUMMARY:Ringing Rocks Skate Parties
DESCRIPTION:Grades Pre-K through 5th Grade only.\nEnjoy a fun-filled evening with friends\, classmates & parents.\n\n\n\nChildren may only attend the party for their age group.\n\nAdmission for parents is free!\n\n\n\nMusic/skating ends at 8 PM - please arrange to have your child picked up promptly by 8:15 PM.
X-ALT-DESC;FMTTYPE=text/html:<div style="text-align: center\;">Grades Pre-K through 5th Grade only.</div>\nEnjoy a fun-filled evening with friends\, classmates &amp\; parents.<br />\n<br />\nChildren may only attend the party for their age group.<br />\nAdmission for parents is free!<br />\n<br />\nMusic/skating ends at 8 PM - please arrange to have your child picked up promptly by 8:15 PM.
LOCATION:Ringing Rocks Roller Rink 1500 Ringing Rocks Park Pottstown\, PA 19464
UID:e.2183.847273
SEQUENCE:3
DTSTAMP:20260422T113034Z
URL:https://business.tricountyareachamber.com/events/details/ringing-rocks-skate-parties-847273
END:VEVENT

END:VCALENDAR
