BEGIN:VCALENDAR
VERSION:2.0
PRODID:-//ChamberMaster//Event Calendar 2.0//EN
METHOD:PUBLISH
X-PUBLISHED-TTL:P3D
REFRESH-INTERVAL:P3D
CALSCALE:GREGORIAN
BEGIN:VEVENT
DTSTART:20180208T160000Z
DTEND:20180208T170000Z
X-MICROSOFT-CDO-ALLDAYEVENT:FALSE
SUMMARY:RKL\, LLP Presents: Real Answers on Tax Reform
DESCRIPTION:Need answers on tax reform? RKL separates the advice you can skip from real opportunities for maximum business and personal tax savings under the new law. We've done the deep dive on tax reform so you don't have to.\n\nIn one hour\, you'll get actionable insights relevant to you and your business\, including:\n\n  Key tax-savings strategies that may not be on your company's radar\n\n  Decisions you must make now to reduce your liability for 2017 and 2018\n\n  Strategies for reinvesting in your company's growth and profitability
X-ALT-DESC;FMTTYPE=text/html:Need answers on tax reform? RKL separates the advice you can skip from real opportunities for maximum business and personal tax savings under the new law. We&rsquo\;ve done the deep dive on tax reform so you don&rsquo\;t have to.<br />\nIn one hour\, you&rsquo\;ll get actionable insights relevant to you and your business\, including:<br />\n&bull\; Key tax-savings strategies that may not be on your company&rsquo\;s radar<br />\n&bull\; Decisions you must make now to reduce your liability for 2017 and 2018<br />\n&bull\; Strategies for reinvesting in your company&rsquo\;s growth and profitability
LOCATION:Webinar: http://www.cpbj.com/section/webinar-tax-reform
UID:e.2183.849170
SEQUENCE:3
DTSTAMP:20260421T110645Z
URL:https://business.tricountyareachamber.com/events/details/rkl-llp-presents-real-answers-on-tax-reform-849170
END:VEVENT

END:VCALENDAR
