BEGIN:VCALENDAR
VERSION:2.0
PRODID:-//ChamberMaster//Event Calendar 2.0//EN
METHOD:PUBLISH
X-PUBLISHED-TTL:P3D
REFRESH-INTERVAL:P3D
CALSCALE:GREGORIAN
BEGIN:VEVENT
DTSTART:20170506T200000Z
DTEND:20170506T230000Z
X-MICROSOFT-CDO-ALLDAYEVENT:FALSE
SUMMARY:Rogue One Screening
DESCRIPTION:Beware the Sixth!\n\nStar Wars Rogue One showing at Montgomer County Community College's West Campus.\n\n\nFree - beginning at 4 PM in North Hall 114\n\n\n\nCome dressed as your favorite Star Wars character\, prizes will be awarded for best costume!\n\n\n\nPresented by the office of Student Leadership and Involvement & Montco Radio
X-ALT-DESC;FMTTYPE=text/html:<div style="text-align: center\;"><span style="font-size:22px\;"><strong>Beware the Sixth!</strong></span></div>\n\n<div style="text-align: center\;"><em><strong>Star Wars Rogue One showing at Montgomer County Community College&#39\;s West Campus.</strong></em></div>\n<br />\nFree - beginning at 4 PM in North Hall 114<br />\n<br />\nCome dressed as your favorite Star Wars character\, prizes will be awarded for best costume!<br />\n<br />\n<em>Presented by the office of Student Leadership and Involvement &amp\; Montco Radio</em>
LOCATION:Montgomery County Community College North Hall 114 16 High Street Pottstown\, PA 19464
UID:e.2183.847648
SEQUENCE:3
DTSTAMP:20260420T194549Z
URL:https://business.tricountyareachamber.com/events/details/rogue-one-screening-847648
END:VEVENT

END:VCALENDAR
