BEGIN:VCALENDAR
VERSION:2.0
PRODID:-//ChamberMaster//Event Calendar 2.0//EN
METHOD:PUBLISH
X-PUBLISHED-TTL:P3D
REFRESH-INTERVAL:P3D
CALSCALE:GREGORIAN
BEGIN:VEVENT
DTSTART:20241024T123000Z
DTEND:20241024T140000Z
X-MICROSOFT-CDO-ALLDAYEVENT:FALSE
SUMMARY:Roles & Responsibilities Roundtable: Sales Representatives
DESCRIPTION:What: Roundtable discussion for Sales Representatives\n\n\n\nWhen: Thursday\, October 24th\n\n\n\nTime: 8:30 AM - 10 AM\n\n\n\nWhere: TriCounty Area Chamber's office\n\n\n\nWhy Attend:  Have a question\, seeking suggestions\, best practices\, or just someone to talk to that knows the basics of the role you (and they) play at your company   good and bad?  \n\n\n\nAttend to interact with your fellow sales representatives.  This will be an informal gathering\, led by you (this is your Chamber)\, to have a conversation\, discuss\, listen and assist\, discuss needs\, and celebrate successes.\n\n\n\nThe first session is on the calendar\, and we will see where these sessions progress from the first Roles and Responsibilities Roundtables and schedule ongoing sessions for the conversation to continue.
X-ALT-DESC;FMTTYPE=text/html:<p><span style="font-size:16px\;"><span style="font-family:arial\;">What: <strong>Roundtable discussion for Sales Representatives</strong><br />\n<br />\nWhen: <strong>Thursday\, October 24th</strong><br />\n<br />\nTime:<strong> 8:30 AM - 10 AM</strong><br />\n<br />\nWhere: <strong>TriCounty Area Chamber&#39\;s office</strong><br />\n<br />\nWhy Attend:&nbsp\;&nbsp\;<strong>Have a question\, seeking suggestions\, best practices\, or just someone to talk to that knows the basics of the role you (and they) play at your company &ndash\; good and bad?&nbsp\;</strong><strong>&#128513\;<br />\n<br />\nAttend to interact with your fellow sales representatives.&nbsp\; This will be an informal gathering\, led by you (this is your Chamber)\, to have a conversation\, discuss\, listen and assist\, discuss needs\, and celebrate successes.<br />\n<br />\nThe first session is on the calendar\, and we will see where these sessions progress from the first Roles and Responsibilities Roundtables and schedule ongoing sessions for the conversation to continue.</strong></span></span></p>\n
LOCATION:TriCounty Area Chamber's Conference Room 152 E. High St.\, Suite 200\, Pottstown\, PA
UID:e.2183.861119
SEQUENCE:3
DTSTAMP:20260421T125841Z
URL:https://business.tricountyareachamber.com/events/details/roles-responsibilities-roundtable-sales-representatives-861119
END:VEVENT

END:VCALENDAR
