BEGIN:VCALENDAR
VERSION:2.0
PRODID:-//ChamberMaster//Event Calendar 2.0//EN
METHOD:PUBLISH
X-PUBLISHED-TTL:P3D
REFRESH-INTERVAL:P3D
CALSCALE:GREGORIAN
BEGIN:VEVENT
DTSTART:20250801T123000Z
DTEND:20250801T140000Z
X-MICROSOFT-CDO-ALLDAYEVENT:FALSE
SUMMARY:Roundtable: Marketing
DESCRIPTION:Roundtable discussion for those in the Marketing Field.\n\n\n\nWhy Attend:  Have a question\, seeking suggestions\, best practices\, or just someone to talk to that knows the basics of the role you (and they) play at your company ? good and bad?  \n\n\n\nAttend to interact with your fellow marketing professionals.  This will be an informal gathering\, led by you (this is your Chamber)\, to have a conversation\, discuss\, listen and assist\, discuss needs\, and celebrate successes.\n\n\n\nCome prepared with discussion points\, challenges you need help with\, or questions for the group to provide guidance on!\n\n\n\n\n\nTCACC will plan this meet up for Marketing Professionals quarterly.   This event is for Members only.
X-ALT-DESC;FMTTYPE=text/html:<p><span style="font-size:16px\;"><span style="font-family:arial\;"><strong>Roundtable discussion for those in the Marketing Field.</strong></span></span><br />\n<br />\n<span style="font-size:16px\;"><span style="font-family:arial\;">Why Attend:&nbsp\;&nbsp\;<strong>Have a question\, seeking suggestions\, best practices\, or just someone to talk to that knows the basics of the role you (and they) play at your company ? good and bad?&nbsp\;</strong><strong>&#128513\;<br />\n<br />\nAttend to interact with your fellow&nbsp\;marketing professionals.&nbsp\;&nbsp\;This will be an informal gathering\, led by you (this is your Chamber)\, to have a conversation\, discuss\, listen and assist\, discuss needs\, and celebrate successes.</strong></span></span><br />\n<br />\n<span style="font-size:18px\;"><strong>Come prepared with discussion points\, challenges you need help with\, or questions for the group to provide guidance on!</strong></span></p>\n\n<div class="mb-2 flex gap-3 empty:hidden -ml-2">\n<div class="items-center justify-start rounded-xl p-1 flex">\n<div class="flex items-center"><br />\n<span style="box-sizing: border-box\; color: rgb(0\, 0\, 0)\; font-family: Arial\, Helvetica\, sans-serif\; font-size: 16px\;"><span style="box-sizing: border-box\; font-family: arial\;"><span style="box-sizing: border-box\; font-weight: bolder\;">TCACC will plan this&nbsp\;meet up for&nbsp\;</span></span></span><strong style="font-family: arial\; font-size: 16px\;">Marketing Professionals</strong><span style="box-sizing: border-box\; font-weight: bolder\; color: rgb(0\, 0\, 0)\; font-family: arial\; font-size: 16px\;">&nbsp\;quarterly.&nbsp\; &nbsp\;This event is for Members only.&nbsp\;</span></div>\n</div>\n</div>\n
LOCATION:TriCounty Area Chamber of Commerce 18 W Lightcap Rd\, Suite 613\, Pottstown PA 19464
UID:e.2183.862929
SEQUENCE:3
DTSTAMP:20260422T011156Z
URL:https://business.tricountyareachamber.com/events/details/roundtable-marketing-862929
END:VEVENT

END:VCALENDAR
