BEGIN:VCALENDAR
VERSION:2.0
PRODID:-//ChamberMaster//Event Calendar 2.0//EN
METHOD:PUBLISH
X-PUBLISHED-TTL:P3D
REFRESH-INTERVAL:P3D
CALSCALE:GREGORIAN
BEGIN:VEVENT
DTSTART:20260225T140000Z
DTEND:20260225T153000Z
X-MICROSOFT-CDO-ALLDAYEVENT:FALSE
SUMMARY:Roundtable: Sales Representatives & Business Development Officers
DESCRIPTION:What: Roundtable discussion for Sales Representatives & Business Development Officers\n\n\n\nWhy Attend:  Have a question\, seeking suggestions\, best practices\, or just someone to talk to that knows the basics of the role you (and they) play at your company ? good and bad?  \n\n\n\nAttend to interact with your fellow sales representatives and business development officers.  This will be an informal gathering\, led by you (this is your Chamber)\, to have a conversation\, discuss\, listen and assist\, discuss needs\, and celebrate successes.\n\n\n\nTCACC will plan this meet up for Sales Representatives & Business Development Officers quarterly.   This event is for Members only.
X-ALT-DESC;FMTTYPE=text/html:<p><span style="font-size:16px\;"><span style="font-family:arial\;">What: <strong>Roundtable discussion for Sales Representatives &amp\; Business Development Officers</strong><br />\n<br />\nWhy Attend:&nbsp\;&nbsp\;<strong>Have a question\, seeking suggestions\, best practices\, or just someone to talk to that knows the basics of the role you (and they) play at your company ? good and bad?&nbsp\;</strong><strong>&#128513\;<br />\n<br />\nAttend to interact with your fellow sales representatives and business development officers.&nbsp\; This will be an informal gathering\, led by you (this is your Chamber)\, to have a conversation\, discuss\, listen and assist\, discuss needs\, and celebrate successes.<br />\n<br />\nTCACC will plan this&nbsp\;meet up for </strong></span></span><strong style="font-family: arial\; font-size: 16px\;">Sales Representatives &amp\; Business Development Officers quarterly.&nbsp\; &nbsp\;This event is for Members only.</strong></p>\n
LOCATION:TCACC Offices 18 W. Lightcap rd\, Suite 613 Pottstown\, PA 19464
UID:e.2183.864057
SEQUENCE:3
DTSTAMP:20260419T235341Z
URL:https://business.tricountyareachamber.com/events/details/roundtable-sales-representatives-business-development-officers-02-25-2026-864057
END:VEVENT

END:VCALENDAR
