BEGIN:VCALENDAR
VERSION:2.0
PRODID:-//ChamberMaster//Event Calendar 2.0//EN
METHOD:PUBLISH
X-PUBLISHED-TTL:P3D
REFRESH-INTERVAL:P3D
CALSCALE:GREGORIAN
BEGIN:VEVENT
DTSTART:20171209T141500Z
DTEND:20171209T171500Z
X-MICROSOFT-CDO-ALLDAYEVENT:FALSE
SUMMARY:Rudolph Run
DESCRIPTION:2 Mile Family Fun Run at Limerick Community Park will be held on December 9th! The Fun Run/Walk will begin at 10AM. Dress as your favorite holiday character for the race. \n\n \n\nRegister online at www.active.com or fill out a registration form which can be found by clicking here.
X-ALT-DESC;FMTTYPE=text/html:<span style="color: rgb(92\, 89\, 83)\; font-family: Arial\; font-size: 14.4px\; background-color: rgb(255\, 255\, 255)\;">2 Mile Family Fun Run at Limerick Community Park will be held on December 9th! The Fun Run/Walk will begin at 10AM. Dress&nbsp\;as&nbsp\;your favorite holiday character for the race.&nbsp\;</span><br style="box-sizing: border-box\; color: rgb(92\, 89\, 83)\; font-family: Arial\; font-size: 14.4px\; background-color: rgb(255\, 255\, 255)\;" />\n<span style="color: rgb(92\, 89\, 83)\; font-family: Arial\; font-size: 14.4px\; background-color: rgb(255\, 255\, 255)\;">&nbsp\;</span><br style="box-sizing: border-box\; color: rgb(92\, 89\, 83)\; font-family: Arial\; font-size: 14.4px\; background-color: rgb(255\, 255\, 255)\;" />\n<span style="color: rgb(92\, 89\, 83)\; font-family: Arial\; font-size: 14.4px\; background-color: rgb(255\, 255\, 255)\;">Register online at&nbsp\;</span><a href="http://www.active.com/" style="box-sizing: border-box\; color: rgb(22\, 90\, 148)\; font-family: Arial\; font-size: 14.4px\; background-color: rgb(255\, 255\, 255)\;">www.active.com</a><span style="color: rgb(92\, 89\, 83)\; font-family: Arial\; font-size: 14.4px\; background-color: rgb(255\, 255\, 255)\;">&nbsp\;or fill out a registration form which can be found by <a href="http://www.limerickpa.org/317/Rudolph-Run">clicking here</a>.</span>
LOCATION:Limerick Community Park Limerick\, PA 19468
UID:e.2183.848848
SEQUENCE:3
DTSTAMP:20260421T080012Z
URL:https://business.tricountyareachamber.com/events/details/rudolph-run-848848
END:VEVENT

END:VCALENDAR
