BEGIN:VCALENDAR
VERSION:2.0
PRODID:-//ChamberMaster//Event Calendar 2.0//EN
METHOD:PUBLISH
X-PUBLISHED-TTL:P3D
REFRESH-INTERVAL:P3D
CALSCALE:GREGORIAN
BEGIN:VEVENT
DTSTART:20241026T120000Z
DTEND:20241026T170000Z
X-MICROSOFT-CDO-ALLDAYEVENT:FALSE
SUMMARY:Rummage Sale
DESCRIPTION:Come join us for our semi-annual rummage sale! We have almost everything - from clothing to jewelry to books to household items. Proceeds go to St. James UCC's Women's Fellowship and our missions.
X-ALT-DESC;FMTTYPE=text/html:Come join us for our semi-annual rummage sale! We have almost everything - from clothing to jewelry to books to household items. Proceeds go to St. James UCC&#39\;s Women&#39\;s Fellowship and our missions.
LOCATION:321 South Limerick Road\, Limerick\, PA
UID:e.2183.861503
SEQUENCE:3
DTSTAMP:20260421T130026Z
URL:https://business.tricountyareachamber.com/events/details/rummage-sale-10-26-2024-861503
END:VEVENT

END:VCALENDAR
