BEGIN:VCALENDAR
VERSION:2.0
PRODID:-//ChamberMaster//Event Calendar 2.0//EN
METHOD:PUBLISH
X-PUBLISHED-TTL:P3D
REFRESH-INTERVAL:P3D
CALSCALE:GREGORIAN
BEGIN:VEVENT
DTSTART:20160216T133000Z
DTEND:20160216T150000Z
X-MICROSOFT-CDO-ALLDAYEVENT:FALSE
SUMMARY:Safety in the Workplace for You and Your Employees
DESCRIPTION:Sergeant Ed Kropp and Office Greg Fritz of the Pottstown Police Department\, will present on how employers can provide their employees a place that is free from recognizable hazards and safeguard their "well-being and security".  They will also address the threat of an active shooter in the workplace.  Attendees will also be able to participate in a question and answer session..\n\n\n\nMembers Only!\n\n\n\nReservations required.
X-ALT-DESC;FMTTYPE=text/html:<br />\n<span style="font-size:12px\;"><span style="font-family:arial\;"><strong>Sergeant Ed&nbsp\;Kropp</strong>&nbsp\;and&nbsp\;<strong>Office Greg Fritz</strong>&nbsp\;of the&nbsp\;Pottstown&nbsp\;Police Department\, will present on&nbsp\;<strong>how employers can provide their employees a place that is free from recognizable hazards and safeguard their &ldquo\;well-being and security&rdquo\;</strong>.&nbsp\; They will also address the threat of an active shooter in the workplace.&nbsp\; Attendees will also be able to participate in a question and answer session.<span style="line-height: 20.8px\;">.</span></span></span><br style="line-height: 20.8px\;" />\n<br style="line-height: 20.8px\;" />\n<span style="line-height: 20.8px\; color: rgb(255\, 0\, 0)\;"><strong>Members Only!</strong></span><br style="line-height: 20.8px\;" />\n<br style="line-height: 20.8px\;" />\n<span style="line-height: 20.8px\;">Reservations required.</span>
LOCATION:TriCounty Area Chamber of Commerce 152 E. High St.\, Suite 360 Pottstown\, PA 19464 There is limited parking available in the lot at the Security Trust Building at 152 High St. You must have a permit to park in a reserved space or you may be ticketed. Parking is available on High St. for up to 3 hours at no charge\, or in the Freight Station Municipal lot\, across the railroad tracks (enter off Hanover St.) for 10 per hour.
UID:e.2183.845290
SEQUENCE:3
DTSTAMP:20260425T191559Z
URL:https://business.tricountyareachamber.com/events/details/safety-in-the-workplace-for-you-and-your-employees-02-16-2016-845290
END:VEVENT

END:VCALENDAR
