BEGIN:VCALENDAR
VERSION:2.0
PRODID:-//ChamberMaster//Event Calendar 2.0//EN
METHOD:PUBLISH
X-PUBLISHED-TTL:P3D
REFRESH-INTERVAL:P3D
CALSCALE:GREGORIAN
BEGIN:VEVENT
DTSTART:20171106T233000Z
DTEND:20171107T013000Z
X-MICROSOFT-CDO-ALLDAYEVENT:FALSE
SUMMARY:Sales - Beyond the Basics - Advanced Techniques That Make a Difference
DESCRIPTION:You know the basics and now want to learn and understand about skills that will separate you from the competition. Learn about buying signals\, customer personality types\, trial closes and sealing the deal.
X-ALT-DESC;FMTTYPE=text/html:You know the basics and now want to learn and understand about skills that will separate you from the competition. Learn about buying signals\, customer personality types\, trial closes and sealing the deal.
LOCATION:Upper Perkiomen Valley Library 350 Main Street Red Hill\, PA 18076
UID:e.2183.848867
SEQUENCE:3
DTSTAMP:20260421T060537Z
URL:https://business.tricountyareachamber.com/events/details/sales-beyond-the-basics-advanced-techniques-that-make-a-difference-848867
END:VEVENT

END:VCALENDAR
