BEGIN:VCALENDAR
VERSION:2.0
PRODID:-//ChamberMaster//Event Calendar 2.0//EN
METHOD:PUBLISH
X-PUBLISHED-TTL:P3D
REFRESH-INTERVAL:P3D
CALSCALE:GREGORIAN
BEGIN:VEVENT
DTSTART:20171203T170000Z
DTEND:20171203T210000Z
X-MICROSOFT-CDO-ALLDAYEVENT:FALSE
SUMMARY:Santa Paws-Bark for Life
DESCRIPTION:Pet dog photos with Santa to benefit American Cancer Society Bark for Life Pottstown Also includes bake sale\, poinsettia sale\, craft sale\, basket raffle and Homemade dog bone sale
X-ALT-DESC;FMTTYPE=text/html:Pet dog photos with Santa to benefit American Cancer Society Bark for Life Pottstown Also includes bake sale\, poinsettia sale\, craft sale\, basket raffle and Homemade dog bone sale
LOCATION:Frederick Living 2849 Big Road Frederick\, PA 19435
UID:e.2183.848880
SEQUENCE:3
DTSTAMP:20260421T080207Z
URL:https://business.tricountyareachamber.com/events/details/santa-paws-bark-for-life-848880
END:VEVENT

END:VCALENDAR
