BEGIN:VCALENDAR
VERSION:2.0
PRODID:-//ChamberMaster//Event Calendar 2.0//EN
METHOD:PUBLISH
X-PUBLISHED-TTL:P3D
REFRESH-INTERVAL:P3D
CALSCALE:GREGORIAN
BEGIN:VEVENT
DTSTART:20171230T010000Z
DTEND:20171230T020000Z
X-MICROSOFT-CDO-ALLDAYEVENT:FALSE
SUMMARY:Santaland Diaries
DESCRIPTION:A bonus holiday gift this season with only four performances in our Newberry Loft. An alternative holiday celebration\, this outrageously funny one-man play based on an essay by popular humorist David Sedaris about the author's experiences as an unemployed writer taking a job as an elf at Macy's in NY. Spend a little time with Crumpet   one of Santa's little helpers as he handles the hordes of holiday shoppers and their insufferable kiddies with whacked out\, wicked wit. A winking take on how the holiday season brings out the best   and the worst   in us all.\n\n(Not recommended for young audiences due to mature language.)\n\nContact beth.mcdonnell@steelriver.org for Group Sales and Discounts\, and Holiday Themed Parties before you see the show.\n\nRuns approximately 1 hour with no intermission
X-ALT-DESC;FMTTYPE=text/html:<p style="box-sizing: border-box\; margin: 0px 0px 26px\; padding: 0px\; color: rgb(51\, 51\, 51)\; font-family: Lato\, sans-serif\; font-size: 16px\; background-color: rgb(255\, 255\, 255)\;">A bonus holiday gift this season with only four performances in our Newberry Loft. An alternative holiday celebration\, this outrageously funny one-man play based on an essay by popular humorist David Sedaris about the author&rsquo\;s experiences as an unemployed writer taking a job as an elf at Macy&rsquo\;s in NY. Spend a little time with Crumpet &ndash\; one of Santa&rsquo\;s little helpers as he handles the hordes of holiday shoppers and their insufferable kiddies with whacked out\, wicked wit. A winking take on how the holiday season brings out the best &ndash\; and the worst &ndash\; in us all.</p>\n\n<p style="box-sizing: border-box\; margin: 0px 0px 26px\; padding: 0px\; color: rgb(51\, 51\, 51)\; font-family: Lato\, sans-serif\; font-size: 16px\; background-color: rgb(255\, 255\, 255)\;"><em style="box-sizing: border-box\;">(Not recommended for young audiences due to mature language.)</em></p>\n\n<p style="box-sizing: border-box\; margin: 0px 0px 26px\; padding: 0px\; color: rgb(51\, 51\, 51)\; font-family: Lato\, sans-serif\; font-size: 16px\; background-color: rgb(255\, 255\, 255)\;"><span style="box-sizing: border-box\; font-weight: 700\;">Contact&nbsp\;<a href="mailto:beth.mcdonnell@steelriver.org" rel="noopener" style="box-sizing: border-box\; background: transparent\; transition: all 0.1s ease-in-out\; color: rgb(36\, 131\, 208)\; text-decoration-line: none\;" target="_blank">beth.mcdonnell@steelriver.org</a>&nbsp\;for Group Sales and Discounts\, and Holiday Themed Parties before you see the show.</span></p>\n\n<p style="box-sizing: border-box\; margin: 0px 0px 26px\; padding: 0px\; color: rgb(51\, 51\, 51)\; font-family: Lato\, sans-serif\; font-size: 16px\; background-color: rgb(255\, 255\, 255)\;"><em style="box-sizing: border-box\;">Runs approximately 1 hour&nbsp\;with no&nbsp\;intermission</em></p>\n
LOCATION:Steel River Playhouse 245 E. High Street Pottstown\, PA 19464
UID:e.2183.848861
SEQUENCE:3
DTSTAMP:20260421T094004Z
URL:https://business.tricountyareachamber.com/events/details/santaland-diaries-848861
END:VEVENT

END:VCALENDAR
