BEGIN:VCALENDAR
VERSION:2.0
PRODID:-//ChamberMaster//Event Calendar 2.0//EN
METHOD:PUBLISH
X-PUBLISHED-TTL:P3D
REFRESH-INTERVAL:P3D
CALSCALE:GREGORIAN
BEGIN:VEVENT
DTSTART:20200911T180000Z
DTEND:20200912T200000Z
X-MICROSOFT-CDO-ALLDAYEVENT:FALSE
SUMMARY:Schuylkill Explorer Kit Distribution Pop-up: Pottstown
DESCRIPTION:Don't miss your chance at getting your hands on one of these FREE kits before the summer ends!\n\nSchuylkill River Greenways and Alliance for Watershed Education Fellow\, Veronica Wynn\, will be at the Riverfront Park Pavilion from 2:00 PM to 4:00 PM. Stop by and pick up a FREE kit to enjoy!\n\nKits are limited so they will be given out on a first-come first-serve basis. This event will last until 4pm or until supplies last. Limit one kit per family
X-ALT-DESC;FMTTYPE=text/html:<span style="color: rgb(5\, 5\, 5)\; font-family: &quot\;Segoe UI Historic&quot\;\, &quot\;Segoe UI&quot\;\, Helvetica\, Arial\, sans-serif\; font-size: 15px\; background-color: rgb(255\, 255\, 255)\;">Don&#39\;t miss your chance at getting your hands on one of these FREE kits before the summer ends!</span><br style="color: rgb(5\, 5\, 5)\; font-family: &quot\;Segoe UI Historic&quot\;\, &quot\;Segoe UI&quot\;\, Helvetica\, Arial\, sans-serif\; font-size: 15px\; background-color: rgb(255\, 255\, 255)\;" />\n<span style="color: rgb(5\, 5\, 5)\; font-family: &quot\;Segoe UI Historic&quot\;\, &quot\;Segoe UI&quot\;\, Helvetica\, Arial\, sans-serif\; font-size: 15px\; background-color: rgb(255\, 255\, 255)\;">Schuylkill River Greenways and Alliance for Watershed Education Fellow\, Veronica Wynn\, will be at the Riverfront Park Pavilion from 2:00 PM to 4:00 PM. Stop by and pick up a FREE kit to enjoy!</span><br style="color: rgb(5\, 5\, 5)\; font-family: &quot\;Segoe UI Historic&quot\;\, &quot\;Segoe UI&quot\;\, Helvetica\, Arial\, sans-serif\; font-size: 15px\; background-color: rgb(255\, 255\, 255)\;" />\n<span style="color: rgb(5\, 5\, 5)\; font-family: &quot\;Segoe UI Historic&quot\;\, &quot\;Segoe UI&quot\;\, Helvetica\, Arial\, sans-serif\; font-size: 15px\; background-color: rgb(255\, 255\, 255)\;">Kits are limited so they will be given out on a first-come first-serve basis. This event will last until 4pm or until supplies last. Limit one kit per family</span>
LOCATION:140 College Drive Pottstown\, PA 19464
UID:e.2183.856335
SEQUENCE:3
DTSTAMP:20260425T214546Z
URL:https://business.tricountyareachamber.com/events/details/schuylkill-explorer-kit-distribution-pop-up-pottstown-856335
END:VEVENT

END:VCALENDAR
