BEGIN:VCALENDAR
VERSION:2.0
PRODID:-//ChamberMaster//Event Calendar 2.0//EN
METHOD:PUBLISH
X-PUBLISHED-TTL:P3D
REFRESH-INTERVAL:P3D
CALSCALE:GREGORIAN
BEGIN:VEVENT
DTSTART:20180317T233000Z
DTEND:20180318T023000Z
X-MICROSOFT-CDO-ALLDAYEVENT:FALSE
SUMMARY:Scotty McCreery
DESCRIPTION:Scotty McCreery is an American country music singer. He won the tenth season of American Idol on May 25\, 2011. His debut studio album\, Clear as Day\, was released in October 2011 and was certified platinum in the United States.
X-ALT-DESC;FMTTYPE=text/html:Scotty McCreery is an American country music singer. He won the tenth season of American Idol on May 25\, 2011. His debut studio album\, Clear as Day\, was released in October 2011 and was certified platinum in the United States.
LOCATION:Santander Performing Arts Center
UID:e.2183.850236
SEQUENCE:3
DTSTAMP:20260421T141114Z
URL:https://business.tricountyareachamber.com/events/details/scotty-mccreery-850236
END:VEVENT

END:VCALENDAR
