BEGIN:VCALENDAR
VERSION:2.0
PRODID:-//ChamberMaster//Event Calendar 2.0//EN
METHOD:PUBLISH
X-PUBLISHED-TTL:P3D
REFRESH-INTERVAL:P3D
CALSCALE:GREGORIAN
BEGIN:VEVENT
DTSTART:20170328T150000Z
DTEND:20170328T173000Z
X-MICROSOFT-CDO-ALLDAYEVENT:FALSE
SUMMARY:Second Annual Women's Symposium
DESCRIPTION:Becoming a Woman of Influence\n\n\nKeynote Speaker - Eileen Connolly-Robbins\n\nThe Chief Executive Officer of The POWER of Professional Women\, a not-for-profit organization\, whose mission is to increase the influence of women leaders and help develop the next generation of leaders through collaboration and social responsibility.\n\n\n\nTable Discussions: Stop networking and start making connections\; Developing your leadership potential\; Finding and owning your voice\; and Positioning yourself for the next big opportunity.\n\n\n\nImpact Award Nominees:\n\n\n	Leadership Award: Barbara O'Malley\, Ashley Pultorak\, Lisa Poelck\, Stacey Woodland\n	Community Impact Award: Mary Rieck\, Ericka Cooper\, Lisa Heverly\n	Entrepreneurship Award: Heather Chandler\, Donna Botti\, Michelle Ward Cahill\, Candice Donnelley-Knox\n\nLegacy Awards:\n\n\n	Entrepreneurship: Bernadette McElroy\n	Community Leadership: Judy Green\n\nPurchase tickets at tcnetwork.org.
X-ALT-DESC;FMTTYPE=text/html:<div style="text-align: center\;"><span style="font-size:20px\;"><strong>Becoming a Woman of Influence</strong></span></div>\n<br />\nKeynote Speaker -<strong> Eileen Connolly-Robbins</strong><br />\n<span font-size:="" open="" style="font-family: ">The Chief Executive Officer of The POWER of Professional Women\, a not-for-profit organization\, whose mission is to increase the influence of women leaders and help develop the next generation of leaders through collaboration and social responsibility.<br />\n<br />\nTable Discussions: Stop networking and start making connections\; Developing your leadership potential\; Finding and owning your voice\; and Positioning yourself for the next big opportunity.<br />\n<br />\nImpact Award Nominees:</span>\n\n<ul>\n	<li><span font-size:="" open="" style="font-family: "><strong>Leadership Award</strong>: Barbara O&#39\;Malley\, Ashley Pultorak\, Lisa Poelck\, Stacey Woodland</span></li>\n	<li><span font-size:="" open="" style="font-family: "><strong>Community Impact Award</strong>: Mary Rieck\, Ericka Cooper\, Lisa Heverly</span></li>\n	<li><span font-size:="" open="" style="font-family: "><strong>Entrepreneurship Award</strong>: Heather Chandler\, Donna Botti\, Michelle Ward Cahill\, Candice Donnelley-Knox</span></li>\n</ul>\n<span font-size:="" open="" style="font-family: ">Legacy Awards:</span>\n\n<ul>\n	<li><span font-size:="" open="" style="font-family: "><strong>Entrepreneurship</strong>: Bernadette McElroy</span></li>\n	<li><span font-size:="" open="" style="font-family: "><strong>Community Leadership</strong>: Judy Green</span></li>\n</ul>\n<span font-size:="" open="" style="font-family: ">Purchase tickets at <a href="http://tcnetwork.org">tcnetwork.org</a>.</span>
LOCATION:Copperfield Inn at Lakeside 594 W. Ridge Pike Limerick\, PA 19468
UID:e.2183.847564
SEQUENCE:3
DTSTAMP:20260420T181341Z
URL:https://business.tricountyareachamber.com/events/details/second-annual-women-s-symposium-847564
END:VEVENT

END:VCALENDAR
