BEGIN:VCALENDAR
VERSION:2.0
PRODID:-//ChamberMaster//Event Calendar 2.0//EN
METHOD:PUBLISH
X-PUBLISHED-TTL:P3D
REFRESH-INTERVAL:P3D
CALSCALE:GREGORIAN
BEGIN:VEVENT
DTSTART:20171101T223000Z
DTEND:20171102T003000Z
X-MICROSOFT-CDO-ALLDAYEVENT:FALSE
SUMMARY:Selling to Increase Sales - Basic Principles That Work
DESCRIPTION:Increase your sales revenue by learning about the tried and true principles and techniques of sales whether it is B to B or Retail. We'll include discussions on developing your pipeline\, skill development\, and sales methods\, We'll use roll plays to practice the techniques.
X-ALT-DESC;FMTTYPE=text/html:Increase your sales revenue by learning about the tried and true principles and techniques of sales whether it is B to B or Retail. We&#39\;ll include discussions on developing your pipeline\, skill development\, and sales methods\, We&#39\;ll use roll plays to practice the techniques.
LOCATION:SCORE TriCounty 244 East High Street Pottstown\, PA 19464
UID:e.2183.848866
SEQUENCE:3
DTSTAMP:20260421T060536Z
URL:https://business.tricountyareachamber.com/events/details/selling-to-increase-sales-basic-principles-that-work-848866
END:VEVENT

END:VCALENDAR
