BEGIN:VCALENDAR
VERSION:2.0
PRODID:-//ChamberMaster//Event Calendar 2.0//EN
METHOD:PUBLISH
X-PUBLISHED-TTL:P3D
REFRESH-INTERVAL:P3D
CALSCALE:GREGORIAN
BEGIN:VEVENT
DTSTART:20180309T190000Z
DTEND:20180311T210000Z
X-MICROSOFT-CDO-ALLDAYEVENT:FALSE
SUMMARY:SEPA Home & Garden Show
DESCRIPTION:We can help you get your Projects Solved! Lots of exhibitors to help you find the best in home building and improvement products. With thousands of square feet of exhibits you'll find the latest in products and services for everything from builders\, contractors\, materials\, decks\, pools\, spas\, entertainment systems\, storage\, plants\, landscape displays/materials\, kitchenware\, and much more.
X-ALT-DESC;FMTTYPE=text/html:We can help you get your Projects Solved! Lots of exhibitors to help you find the best in home building and improvement products. With thousands of square feet of exhibits you&rsquo\;ll find the latest in products and services for everything from builders\, contractors\, materials\, decks\, pools\, spas\, entertainment systems\, storage\, plants\, landscape displays/materials\, kitchenware\, and much more.
LOCATION:Santander Arena
UID:e.2183.850233
SEQUENCE:3
DTSTAMP:20260421T124014Z
URL:https://business.tricountyareachamber.com/events/details/sepa-home-garden-show-850233
END:VEVENT

END:VCALENDAR
