BEGIN:VCALENDAR
VERSION:2.0
PRODID:-//ChamberMaster//Event Calendar 2.0//EN
METHOD:PUBLISH
X-PUBLISHED-TTL:P3D
REFRESH-INTERVAL:P3D
CALSCALE:GREGORIAN
BEGIN:VEVENT
DTSTART:20170911T150000Z
DTEND:20170911T220000Z
X-MICROSOFT-CDO-ALLDAYEVENT:FALSE
SUMMARY:September Scramble Presented by Schultz Technology & TCACC
DESCRIPTION:Early Birdie Pricing Ends 7/31/17 - don't miss out on your opportunity to save!\n\n\n\n \n\nJoin your fellow Chamber Members for a day on the course. Enjoy lunch\, round of golf\, clambake\, & networking.\n\n2017 New & Exciting features:\n\n\n	Each participant will receive a 90th Anniversary commemorative gift\n	"Chamber Cup" Competition\n	Each foursome will leave with a photo of their group\n\n\nHole Sponsorship Opportunities Available $150\n\nContact Kitty at 610-326-2900 or kitty@tricountyareachamber.com.\n\n\n\nOnline registration closes on 9/1 at 7:30 AM - please call the office if you would like to register after this time. \n\n\n\nRain date: Monday\, September 25\n\n Additional information can be found on the event page by clicking here.
X-ALT-DESC;FMTTYPE=text/html:<div style="text-align: center\;"><span style="font-size:14px\;"><strong><span style="color:#FF0000\;">Early Birdie Pricing Ends 7/31/17 - don&#39\;t miss out on your opportunity to save!</span></strong></span></div>\n<br />\n<title></title>\n<p style="margin: 0in 0in 0.0001pt\; text-align: center\;">&nbsp\;</p>\n\n<p style="margin: 0in 0in 0.0001pt\;"><font color="#000000" face="Arial">Join your fellow Chamber Members for a day on the course. Enjoy lunch\, round of golf\, clambake\, &amp\; networking.</font></p>\n\n<p style="text-align: center\;"><span style="color: #000000\;"><span style="font-family: arial\; font-size: 12px\;"><strong>2017 New &amp\; Exciting features:</strong></span></span></p>\n\n<ul>\n	<li>Each participant will receive a <strong>90th Anniversary commemorative gift</strong></li>\n	<li><strong>&quot\;Chamber Cup&quot\; Competition</strong></li>\n	<li>Each foursome will leave with a <strong>photo of their group</strong></li>\n</ul>\n\n<p style="text-align: center\;"><span style="color:#000000\;"><span style="font-family: arial\; font-size: 12px\;">Hole Sponsorship Opportunities Available $150<br />\nContact Kitty at 610-326-2900 or </span><a href="mailto:kitty@tricountyareachamber.com"><span style="font-family: arial\; font-size: 12px\;">kitty@tricountyareachamber.com</span></a><span style="font-family: arial\; font-size: 12px\;">.</span><br />\n<br />\n<strong style="color: rgb(51\, 51\, 51)\; font-family: arial\; font-size: 12px\; line-height: 12.8px\; background-color: rgb(255\, 255\, 255)\;"><em>Online registration closes on 9/1 at 7:30 AM - please call the office if you would like to register after this time.&nbsp\;</em></strong></span><br />\n<br />\n<span style="color: #000000\;"><span style="font-family: arial\; font-size: 12px\;">Rain date: Monday\, September 25</span></span></p>\n\n<p><span style="color: #000000\;">&nbsp\;Additional information can be found on the event page by <a href="http://www.tricountyareachamber.com/annual-events---networking/annual-golf-outing---awards-dinner/">clicking here</a>.&nbsp\;</span></p>\n\n<p><br />\n&nbsp\;</p>\n\n<p><span style="color: #000000\;">&nbsp\;</span></p>\n\n<p><span style="color: #000000\;">&nbsp\;</span></p>\n\n<p>&nbsp\;</p>\n\n<p>&nbsp\;</p>\n\n<p>&nbsp\;</p>\n\n<p>&nbsp\;</p>\n\n<p>&nbsp\;</p>\n\n<p>&nbsp\;</p>\n\n<p>&nbsp\;</p>\n
LOCATION:Hickory Valley Golf Club 1921 Ludwig Rd. Gilbertsville\, PA 19525
UID:e.2183.847702
SEQUENCE:3
DTSTAMP:20260421T024927Z
URL:https://business.tricountyareachamber.com/events/details/september-scramble-presented-by-schultz-technology-tcacc-847702
END:VEVENT

END:VCALENDAR
