BEGIN:VCALENDAR
VERSION:2.0
PRODID:-//ChamberMaster//Event Calendar 2.0//EN
METHOD:PUBLISH
X-PUBLISHED-TTL:P3D
REFRESH-INTERVAL:P3D
CALSCALE:GREGORIAN
BEGIN:VEVENT
DTSTART:20180224T223000Z
DTEND:20180225T003000Z
X-MICROSOFT-CDO-ALLDAYEVENT:FALSE
SUMMARY:Serve & Connect
DESCRIPTION:Serve & Connect is a NEW Community Initiative for Pottstown youth.\n\n \n\nThe February Kick-off Event is a FREE night of games\, food\, music\, fun and special mentors.\n\n \n\nLimited spots.\n\n \n\nTo register\, email children's names and ages to Maryellen@gptltennis.com.
X-ALT-DESC;FMTTYPE=text/html:<p style="-webkit-tap-highlight-color: rgba(0\, 0\, 0\, 0)\; margin-top: 0px\; margin-bottom: 0px\; color: rgb(102\, 102\, 102)\; font-family: &quot\;Open Sans&quot\;\, sans-serif\; font-size: 14px\; background-color: rgb(255\, 255\, 255)\;"><span style="-webkit-tap-highlight-color: rgba(0\, 0\, 0\, 0)\; margin-top: 0px\; margin-bottom: 0px\; font-size: 16px\;"><span style="-webkit-tap-highlight-color: rgba(0\, 0\, 0\, 0)\; margin-top: 0px\; margin-bottom: 0px\; color: rgb(0\, 0\, 0)\;"><span style="-webkit-tap-highlight-color: rgba(0\, 0\, 0\, 0)\; margin-top: 0px\; margin-bottom: 0px\; font-family: arial\, helvetica\, sans-serif\;">Serve &amp\; Connect is a NEW Community Initiative for Pottstown youth.</span></span></span></p>\n\n<p style="-webkit-tap-highlight-color: rgba(0\, 0\, 0\, 0)\; margin-top: 0px\; margin-bottom: 0px\; color: rgb(102\, 102\, 102)\; font-family: &quot\;Open Sans&quot\;\, sans-serif\; font-size: 14px\; background-color: rgb(255\, 255\, 255)\;">&nbsp\;</p>\n\n<p style="-webkit-tap-highlight-color: rgba(0\, 0\, 0\, 0)\; margin-top: 0px\; margin-bottom: 0px\; color: rgb(102\, 102\, 102)\; font-family: &quot\;Open Sans&quot\;\, sans-serif\; font-size: 14px\; background-color: rgb(255\, 255\, 255)\;"><span style="-webkit-tap-highlight-color: rgba(0\, 0\, 0\, 0)\; margin-top: 0px\; margin-bottom: 0px\; font-size: 16px\;"><span style="-webkit-tap-highlight-color: rgba(0\, 0\, 0\, 0)\; margin-top: 0px\; margin-bottom: 0px\; color: rgb(0\, 0\, 0)\;"><span style="-webkit-tap-highlight-color: rgba(0\, 0\, 0\, 0)\; margin-top: 0px\; margin-bottom: 0px\; font-family: arial\, helvetica\, sans-serif\;">The February Kick-off Event is a FREE night of games\, food\, music\, fun and special mentors.</span></span></span></p>\n\n<p style="-webkit-tap-highlight-color: rgba(0\, 0\, 0\, 0)\; margin-top: 0px\; margin-bottom: 0px\; color: rgb(102\, 102\, 102)\; font-family: &quot\;Open Sans&quot\;\, sans-serif\; font-size: 14px\; background-color: rgb(255\, 255\, 255)\;">&nbsp\;</p>\n\n<p style="-webkit-tap-highlight-color: rgba(0\, 0\, 0\, 0)\; margin-top: 0px\; margin-bottom: 0px\; color: rgb(102\, 102\, 102)\; font-family: &quot\;Open Sans&quot\;\, sans-serif\; font-size: 14px\; background-color: rgb(255\, 255\, 255)\;"><em><strong><span style="-webkit-tap-highlight-color: rgba(0\, 0\, 0\, 0)\; margin-top: 0px\; margin-bottom: 0px\; font-size: 16px\;"><span style="-webkit-tap-highlight-color: rgba(0\, 0\, 0\, 0)\; margin-top: 0px\; margin-bottom: 0px\; color: rgb(0\, 0\, 0)\;"><span style="-webkit-tap-highlight-color: rgba(0\, 0\, 0\, 0)\; margin-top: 0px\; margin-bottom: 0px\; font-family: arial\, helvetica\, sans-serif\;">Limited spots.</span></span></span></strong></em></p>\n\n<p style="-webkit-tap-highlight-color: rgba(0\, 0\, 0\, 0)\; margin-top: 0px\; margin-bottom: 0px\; color: rgb(102\, 102\, 102)\; font-family: &quot\;Open Sans&quot\;\, sans-serif\; font-size: 14px\; background-color: rgb(255\, 255\, 255)\;">&nbsp\;</p>\n\n<p style="-webkit-tap-highlight-color: rgba(0\, 0\, 0\, 0)\; margin-top: 0px\; margin-bottom: 0px\; color: rgb(102\, 102\, 102)\; font-family: &quot\;Open Sans&quot\;\, sans-serif\; font-size: 14px\; background-color: rgb(255\, 255\, 255)\;"><span style="-webkit-tap-highlight-color: rgba(0\, 0\, 0\, 0)\; margin-top: 0px\; margin-bottom: 0px\; color: rgb(0\, 0\, 0)\;"><span style="-webkit-tap-highlight-color: rgba(0\, 0\, 0\, 0)\; margin-top: 0px\; margin-bottom: 0px\; font-family: arial\, helvetica\, sans-serif\;"><span style="-webkit-tap-highlight-color: rgba(0\, 0\, 0\, 0)\; margin-top: 0px\; margin-bottom: 0px\; font-size: 16px\;">To register\, email children&#39\;s names and ages to <a href="mailto:Maryellen@gptltennis.com">Maryellen@gptltennis.com</a>.</span></span></span></p>\n
LOCATION:Hill School Field House 830 Beech Street Pottstown\, PA 19464
UID:e.2183.849181
SEQUENCE:3
DTSTAMP:20260421T110137Z
URL:https://business.tricountyareachamber.com/events/details/serve-connect-849181
END:VEVENT

END:VCALENDAR
