BEGIN:VCALENDAR
VERSION:2.0
PRODID:-//ChamberMaster//Event Calendar 2.0//EN
METHOD:PUBLISH
X-PUBLISHED-TTL:P3D
REFRESH-INTERVAL:P3D
CALSCALE:GREGORIAN
BEGIN:VEVENT
DTSTART:20241016T220000Z
DTEND:20241017T003000Z
X-MICROSOFT-CDO-ALLDAYEVENT:FALSE
SUMMARY:Show Her The Money! Movie Screening + LIVE Panel + Networking!
DESCRIPTION:SHOW HER THE MONEY This is a story that's never been told. SHOW HER THE MONEY addresses how women are receiving less than 2% of venture capital funding and demystifies what venture capital is. Featuring rock-star female investors who support diverse women entrepreneurs with innovations that will change the world\, Show Her The Money reminds us that money is power and women need it to achieve true equality. WATCH THE TRAILER. Your ticket gets you a complete experience! Doors Open: 5:50 PM ~ Viewing of the Documentary: 6:10 - 7:45 PM ~ LIVE Panel Discussion & Audience Q&A: 7:45 - 8:30 PM Panel includes members of the cast! ~ Meet & Greet and Open Networking: 8:30 - 9:00 PM
X-ALT-DESC;FMTTYPE=text/html:SHOW HER THE MONEY This is a story that&rsquo\;s never been told. SHOW HER THE MONEY addresses how women are receiving less than 2% of venture capital funding and demystifies what venture capital is. Featuring rock-star female investors who support diverse women entrepreneurs with innovations that will change the world\, Show Her The Money reminds us that money is power and women need it to achieve true equality. WATCH THE TRAILER. Your ticket gets you a complete experience! Doors Open: 5:50 PM ~ Viewing of the Documentary: 6:10 - 7:45 PM ~ LIVE Panel Discussion &amp\; Audience Q&amp\;A: 7:45 - 8:30 PM Panel includes members of the cast! ~ Meet &amp\; Greet and Open Networking: 8:30 - 9:00 PM
LOCATION:Oaks Center Cinema 180 Mill Road Phoenixville\, PA 19460
UID:e.2183.861126
SEQUENCE:3
DTSTAMP:20260421T130240Z
URL:https://business.tricountyareachamber.com/events/details/show-her-the-money-movie-screening-live-panel-networking-861126
END:VEVENT

END:VCALENDAR
