BEGIN:VCALENDAR
VERSION:2.0
PRODID:-//ChamberMaster//Event Calendar 2.0//EN
METHOD:PUBLISH
X-PUBLISHED-TTL:P3D
REFRESH-INTERVAL:P3D
CALSCALE:GREGORIAN
BEGIN:VEVENT
DTSTART:20260402T130000Z
DTEND:20260402T153000Z
X-MICROSOFT-CDO-ALLDAYEVENT:FALSE
SUMMARY:Skill Share: CPR/AED Training and Certification
DESCRIPTION:Ever wonder what talents and life-saving skills lie beyond the business card? Join us for the Chamber's Skill Share Series\, where members explore the unique skills and passions of fellow members in a fun\, casual\, and engaging setting. Each session is designed so you walk away with a new skill not always a professional one and the opportunity to connect with other members in a relaxed environment.\n\nFor this Skill Share\, we're bringing essential\, hands-on training right to the Chamber Office. Join Jim Boyer and his team from Boyertown Ambulance for American Heart Association Heartsaver CPR\, AED\, and First Aid training. This interactive session will provide practical\, real-world instruction to help you respond confidently in an emergency.\n\nParticipants who successfully complete the class will receive an official Heartsaver CPR\, AED\, and First Aid certification\, emailed directly from a third-party sponsor. Certifications are valid for two years.\n\n  Cost: $50 per person\n\n  Location: TriCounty Area Chamber's Office\n\n  Capacity: Limited to 10 participants\n\nThis is a great opportunity to gain a valuable\, potentially life-saving skill while networking with fellow Chamber members.
X-ALT-DESC;FMTTYPE=text/html:<p data-end="564" data-start="165"><span style="font-size:16px\;">Ever wonder what talents and life-saving skills lie beyond the business card? Join us for the Chamber&rsquo\;s Skill Share Series\, where members explore the unique skills and passions of fellow members in a fun\, casual\, and engaging setting. Each session is designed so you walk away with a new skill&mdash\;not always a professional one&mdash\;and the opportunity to connect with other members in a relaxed environment.</span></p>\n\n<p data-end="918" data-start="566"><span style="font-size:16px\;">For this Skill Share\, we&rsquo\;re bringing essential\, hands-on training right to the Chamber Office. Join Jim Boyer and his team from <strong data-end="717" data-start="694">Boyertown Ambulance</strong> for <strong data-end="796" data-start="722">American Heart Association Heartsaver CPR\, AED\, and First Aid training</strong>. This interactive session will provide practical\, real-world instruction to help you respond confidently in an emergency.</span></p>\n\n<p data-end="1136" data-start="920"><span style="font-size:16px\;">Participants who successfully complete the class will receive an <strong data-end="1046" data-start="985">official Heartsaver CPR\, AED\, and First Aid certification</strong>\, emailed directly from a third-party sponsor. Certifications are valid for <strong data-end="1135" data-start="1122">two years</strong>.</span></p>\n\n<p data-end="1245" data-start="1138"><span style="font-size:16px\;">&#128178\; Cost: <strong data-end="1165" data-start="1147">$50 per person</strong><br data-end="1168" data-start="1165" />\n&#128205\; Location: <strong data-end="1199" data-start="1181">TriCounty Area Chamber&#39\;s&nbsp\;Office</strong><br data-end="1202" data-start="1199" />\n&#128101\; Capacity: <strong data-end="1245" data-start="1215">Limited to 10 participants</strong></span></p>\n\n<p data-end="1370" data-start="1247"><span style="font-size:16px\;">This is a great opportunity to gain a valuable\, potentially life-saving skill while networking with fellow Chamber members.</span></p>\n\n<p data-end="900" data-start="519">&nbsp\;</p>\n
LOCATION:TriCounty Area Chamber of Commerce 18 W Lightcap Rd.\, Suite 613\, Pottstown\, PA 19464 Located at the Philadelphia Premium Outlets next to the Columbia store
UID:e.2183.864542
SEQUENCE:3
DTSTAMP:20260422T124908Z
URL:https://business.tricountyareachamber.com/events/details/skill-share-cpr-aed-training-and-certification-864542
END:VEVENT

END:VCALENDAR
