BEGIN:VCALENDAR
VERSION:2.0
PRODID:-//ChamberMaster//Event Calendar 2.0//EN
METHOD:PUBLISH
X-PUBLISHED-TTL:P3D
REFRESH-INTERVAL:P3D
CALSCALE:GREGORIAN
BEGIN:VEVENT
DTSTART:20260320T123000Z
DTEND:20260320T133000Z
X-MICROSOFT-CDO-ALLDAYEVENT:FALSE
SUMMARY:Skill Share: Yoga with Patti Seigel
DESCRIPTION:Ever wonder what talents lie beyond the business card? Join us for the Chamber's Skill Share Series\, where members explore the unique skills and hidden passions of fellow members in a fun\, casual setting. Each session is designed so you walk away with a new skill not always a professional one and the chance to connect with other members in a relaxed\, engaging environment.\n\n\n\nOur March session will be facilitated by Patti Seigel with the 422 Business Advisor. Patti teaches Hatha Yoga as a vehicle for healing on all levels of the Body/Mind connection. It is a path to holistic healing awakening balance\, spirit\, love\, and grace from the inside out.\n\n\n\nJoin us for a heart lead yoga flow\, leave feeling energized and relaxed.\n\n\n\nPlease bring your own Yoga Mats!
X-ALT-DESC;FMTTYPE=text/html:<p data-end="517" data-start="129"><span style="font-size:16px\;">Ever wonder what talents lie beyond the business card? Join us for the Chamber&rsquo\;s <strong data-end="232" data-start="210">Skill Share Series</strong>\, where members explore the unique skills and hidden passions of fellow members in a fun\, casual setting. Each session is designed so you walk away with a <strong data-end="400" data-start="387">new skill</strong>&mdash\;not always a professional one&mdash\;and the chance to <strong data-end="479" data-start="449">connect with other members</strong> in a relaxed\, engaging environment.<br />\n<br />\nOur March session will be facilitated by Patti Seigel with the 422 Business Advisor. <strong>Patti teaches Hatha&nbsp\;Yoga as a vehicle for healing on all levels of the Body/Mind connection.</strong>&nbsp\;It is a path to holistic healing&mdash\;awakening balance\, spirit\, love\, and grace from the inside out.<br />\n<br />\nJoin us for a heart lead yoga flow\, leave feeling energized and relaxed.<br />\n<br />\n<strong>Please bring your own Yoga Mats!</strong></span></p>\n
LOCATION:TriCounty Area Chamber of Commerce 18 W. Lightcap rd.\, Suite 613\, Pottstown\, PA 19465
UID:e.2183.864588
SEQUENCE:3
DTSTAMP:20260422T170317Z
URL:https://business.tricountyareachamber.com/events/details/skill-share-yoga-with-patti-seigel-864588
END:VEVENT

END:VCALENDAR
