BEGIN:VCALENDAR
VERSION:2.0
PRODID:-//ChamberMaster//Event Calendar 2.0//EN
METHOD:PUBLISH
X-PUBLISHED-TTL:P3D
REFRESH-INTERVAL:P3D
CALSCALE:GREGORIAN
BEGIN:VEVENT
DTSTART:20210304T140000Z
DTEND:20210304T153000Z
X-MICROSOFT-CDO-ALLDAYEVENT:FALSE
SUMMARY:SkillUp: 3 Questions to Supercharge Your Momentum with Jenna Armato
DESCRIPTION:Join us for an interactive discussion with Jenna Armato\, Growth & Success Coach!\n\nJenna will be sharing 3 questions designed to boost your momentum\, move priorities forward with laser focus\, and maximize learning lessons as massive opportunities for growth.   \n\nWhether you're looking to facilitate growth within your business\, within your team\, or within your career development journey\, Jenna will be sharing a powerful practice you can leverage for continuous intentional growth and keep your momentum going strong. \n\n\n\nAbout Jenna\n\nJenna joined the John Maxwell Team in 2017 with the mission to facilitate growth in the lives of others.\n\nShe coaches\, individuals\, businesses and non-profit organizations in Leadership Development\, Growth & Resilience\, and Effective Communications.\n\nJenna works with clients virtually and in person to equip them with tools\, training and strategies to uncover and identify opportunities for growth and create new results in their lives and their organizations.\n\nAs a DISC Certified Trainer\, Jenna helps people leverage awareness of behavioral styles of themselves and others to strengthen connection\, collaboration\, and communication in every area of their lives at home\, at work and in the community.\n\nPrior to becoming certified with the John Maxwell Team\, Jenna spent 20 years working in the advertising and marketing industries developing relationship\, content\, and engagement strategies both online and offline.\n\nShe combines her passion and expertise in growth facilitation with her extensive marketing background and provides Thinking Partner sessions that spark creativity and outside of the box thinking\, to help her clients reach new levels of achievement within themselves and within their businesses.\n\nJenna is a John Maxwell certified Coach\, Speaker and Trainer\, a DISC certified Trainer and a Licensed teacher through the Empowered Living Community.\n\nJenna serves on the Board for TriCounty Community Network (TCN)\, the Philadelphia American Marketing Association\, as well as Trellis for Tomorrow.  She is an Ambassador for TriCounty Area Chamber of Commerce\, she Leads the Empowered Living Community Connection Pillar\, and is a charter member of the WomenWillpower organization. Jenna serves on the President's Advisory Council for the John Maxwell Team.
X-ALT-DESC;FMTTYPE=text/html:Join us for an interactive discussion with Jenna Armato\, Growth &amp\; Success Coach!<br />\n<strong>Jenna will be sharing 3 questions designed to boost your momentum\, move priorities forward with laser focus\, and maximize learning lessons as massive opportunities for growth.&nbsp\; &nbsp\;</strong><br />\nWhether you&rsquo\;re looking to facilitate growth within your business\, within your team\, or within your career development journey\, Jenna will be sharing a powerful practice you can leverage for continuous intentional growth and keep your momentum going strong.&nbsp\;<br />\n<br />\n<u><strong>About Jenna</strong></u><br />\nJenna joined the John Maxwell Team in 2017 with the mission to facilitate growth in the lives of others.<br />\nShe coaches\, individuals\, businesses and non-profit organizations in Leadership Development\, Growth &amp\; Resilience\, and Effective Communications.<br />\nJenna works with clients virtually and in person to equip them with tools\, training and strategies to uncover and identify opportunities for growth and create new results in their lives and their organizations.<br />\nAs a DISC Certified Trainer\, Jenna helps people leverage awareness of behavioral styles of themselves and others to strengthen connection\, collaboration\, and communication in every area of their lives at home\, at work and in the community.<br />\nPrior to becoming certified with the John Maxwell Team\, Jenna spent 20 years working in the advertising and marketing industries developing relationship\, content\, and engagement strategies both online and offline.<br />\nShe combines her passion and expertise in growth facilitation with her extensive marketing background and provides Thinking Partner sessions that spark creativity and outside of the box thinking\, to help her clients reach new levels of achievement within themselves and within their businesses.<br />\nJenna is a John Maxwell certified Coach\, Speaker and Trainer\, a DISC certified Trainer and a Licensed teacher through the Empowered Living Community.<br />\nJenna serves on the Board for TriCounty Community Network (TCN)\, the Philadelphia American Marketing Association\, as well as Trellis for Tomorrow.&nbsp\; She is an Ambassador for TriCounty Area Chamber of Commerce\, she Leads the Empowered Living Community Connection Pillar\, and is a charter member of the WomenWillpower organization. Jenna serves on the President&rsquo\;s Advisory Council for the John Maxwell Team.<br />\n&nbsp\;
LOCATION:VIRTUAL | A Zoom link will be sent to all registered attendees prior to the event.
UID:e.2183.856473
SEQUENCE:3
DTSTAMP:20260423T181147Z
URL:https://business.tricountyareachamber.com/events/details/skillup-3-questions-to-supercharge-your-momentum-with-jenna-armato-856473
END:VEVENT

END:VCALENDAR
