BEGIN:VCALENDAR
VERSION:2.0
PRODID:-//ChamberMaster//Event Calendar 2.0//EN
METHOD:PUBLISH
X-PUBLISHED-TTL:P3D
REFRESH-INTERVAL:P3D
CALSCALE:GREGORIAN
BEGIN:VEVENT
DTSTART:20170119T223000Z
DTEND:20170119T234500Z
X-MICROSOFT-CDO-ALLDAYEVENT:FALSE
SUMMARY:Sleuthing out toxins in everyday products
DESCRIPTION:Toxins are everywhere in our modern world. They're in the air we breathe\, the water we drink\, the food we eat. They're in everyday skin care products\, home cleaning products and many\, many other unsuspecting places. Whether we realize it or not\, these toxins are absorbed into our bodies and weaken us\, contributing to unhealthy symptoms and illness. But there is hope! Come to this informative seminar and learn how you can significantly reduce your exposure to toxins and their effects on your precious body.
X-ALT-DESC;FMTTYPE=text/html:<span style="font-size:14px"><span style="font-family:arial\,helvetica\,sans-serif"><span style="color:rgb(22\, 19\, 63)">Toxins are everywhere in our modern world. They&#39\;re in the air we breathe\, the water we drink\, the food we eat. They&#39\;re in everyday skin care products\, home cleaning products and many\, many other unsuspecting places. Whether we realize it or not\, these toxins are absorbed into our bodies and weaken us\, contributing to unhealthy symptoms and illness. But there is hope! Come to this informative seminar and learn how you can significantly reduce your exposure to toxins and their effects on your precious body.</span></span></span>
LOCATION:Center for Nutritional Healing at Bealer Chiro Plus 7842 Boyertown Pike Boyertown\, PA 19512
UID:e.2183.847415
SEQUENCE:3
DTSTAMP:20260420T132633Z
URL:https://business.tricountyareachamber.com/events/details/sleuthing-out-toxins-in-everyday-products-01-19-2017-847415
END:VEVENT

END:VCALENDAR
