BEGIN:VCALENDAR
VERSION:2.0
PRODID:-//ChamberMaster//Event Calendar 2.0//EN
METHOD:PUBLISH
X-PUBLISHED-TTL:P3D
REFRESH-INTERVAL:P3D
CALSCALE:GREGORIAN
BEGIN:VEVENT
DTSTART:20170206T233000Z
DTEND:20170207T004500Z
X-MICROSOFT-CDO-ALLDAYEVENT:FALSE
SUMMARY:Sleuthing out toxins in everyday products
DESCRIPTION:Join us Monday evening at Margaritas for a lively\, informative health seminar. We'll have good\, healthy Mexican food (complimentary!) and a crowd of nice folks. Cindy Harrington will discuss how we're exposed to toxins and how they affect us.\n\n\n\nToxins are in the air we breathe\, the water we drink\, the food we eat. They're in everyday skin care products\, home cleaning products and many\, many other unsuspecting places. Whether we realize it or not\, these toxins are absorbed into our bodies and weaken us\, contributing to unhealthy symptoms and illness. But there is hope! Come to this informative free workshop and learn how you can significantly reduce your exposure to toxins and their effects on your precious body.
X-ALT-DESC;FMTTYPE=text/html:<span style="font-size:14px"><span style="font-family:arial\,helvetica\,sans-serif"><span style="color:rgb(22\, 19\, 63)">Join us Monday evening at Margaritas for a lively\, informative health seminar. We&#39\;ll have good\, healthy Mexican food (complimentary!) and a crowd of nice folks. Cindy Harrington will discuss how we&#39\;re exposed to toxins and how they affect us.<br />\n<br />\nToxins are in the air we breathe\, the water we drink\, the food we eat. They&#39\;re in everyday skin care products\, home cleaning products and many\, many other unsuspecting places. Whether we realize it or not\, these toxins are absorbed into our bodies and weaken us\, contributing to unhealthy symptoms and illness. But there is hope! Come to this informative free workshop and learn how you can significantly reduce your exposure to toxins and their effects on your precious body.</span></span></span>
LOCATION:Margaritas Mexican Restaurant (in Providence Town Center next to Raymour & Flanigan Furniture) 350 Water Loop Lane Collegeville\, PA 19426
UID:e.2183.847416
SEQUENCE:3
DTSTAMP:20260420T152359Z
URL:https://business.tricountyareachamber.com/events/details/sleuthing-out-toxins-in-everyday-products-02-06-2017-847416
END:VEVENT

END:VCALENDAR
